BEGIN:VCALENDAR
VERSION:2.0
PRODID:-//Oradea.ro - ECPv6.15.12.2//NONSGML v1.0//EN
CALSCALE:GREGORIAN
METHOD:PUBLISH
X-WR-CALNAME:Oradea.ro
X-ORIGINAL-URL:https://oradea.ro
X-WR-CALDESC:Evenimente pentru Oradea.ro
REFRESH-INTERVAL;VALUE=DURATION:PT1H
X-Robots-Tag:noindex
X-PUBLISHED-TTL:PT1H
BEGIN:VTIMEZONE
TZID:Europe/Helsinki
BEGIN:DAYLIGHT
TZOFFSETFROM:+0200
TZOFFSETTO:+0300
TZNAME:EEST
DTSTART:20230326T010000
END:DAYLIGHT
BEGIN:STANDARD
TZOFFSETFROM:+0300
TZOFFSETTO:+0200
TZNAME:EET
DTSTART:20231029T010000
END:STANDARD
BEGIN:DAYLIGHT
TZOFFSETFROM:+0200
TZOFFSETTO:+0300
TZNAME:EEST
DTSTART:20240331T010000
END:DAYLIGHT
BEGIN:STANDARD
TZOFFSETFROM:+0300
TZOFFSETTO:+0200
TZNAME:EET
DTSTART:20241027T010000
END:STANDARD
BEGIN:DAYLIGHT
TZOFFSETFROM:+0200
TZOFFSETTO:+0300
TZNAME:EEST
DTSTART:20250330T010000
END:DAYLIGHT
BEGIN:STANDARD
TZOFFSETFROM:+0300
TZOFFSETTO:+0200
TZNAME:EET
DTSTART:20251026T010000
END:STANDARD
END:VTIMEZONE
BEGIN:VEVENT
DTSTART;TZID=Europe/Helsinki:20240416T170000
DTEND;TZID=Europe/Helsinki:20240601T180000
DTSTAMP:20260421T212857
CREATED:20240409T114741Z
LAST-MODIFIED:20240409T114741Z
UID:10000455-1713286800-1717264800@oradea.ro
SUMMARY:Expoziția ”Colecția de monede emise de Moldova Suverană. 195 monede de aur și argint”
DESCRIPTION:Deschiderea expoziției ”Colecția de monede emise de Moldova Suverană. 195 monede de aur și argint”\, colecție care aparține Muzeului Serviciului Vamal al Republicii Moldova\, precum și colonelului Petru Costin din Republica Moldova va avea loc în data de 16 aprilie. Această expoziție va fi deschisă publicului până în data de 1 iunie 2024.
URL:https://oradea.ro/eveniment/expozitia-colectia-de-monede-emise-de-moldova-suverana-195-monede-de-aur-si-argint/
LOCATION:Muzeul Orașului Oradea\, Piața\, Aleea Emanuil Gojdu 39-41\, Oradea\, Bihor\, 410067\, România
CATEGORIES:Expoziție
END:VEVENT
BEGIN:VEVENT
DTSTART;TZID=Europe/Helsinki:20240515T120000
DTEND;TZID=Europe/Helsinki:20240519T200000
DTSTAMP:20260421T212857
CREATED:20240229T083403Z
LAST-MODIFIED:20240304T134252Z
UID:10000310-1715774400-1716148800@oradea.ro
SUMMARY:Târgul de carte Gaudeamus
DESCRIPTION:Radio România revine în inima Oradei\, cu edituri de top și cu cei mai importanți distribuitori de carte străină\, muzică și jocuri educative. Timp de 4 zile\, Piața Unirii va fi locul de întâlnire al tuturor iubitorilor de cărți\, mari și mici.
URL:https://oradea.ro/eveniment/targul-de-carte-gaudeamus/
LOCATION:Piața Unirii\, Oradea\, Piața Unirii\, Oradea\, Bihor\, România
CATEGORIES:Târg de carte
ATTACH;FMTTYPE=image/jpeg:https://oradea.ro/wp-content/uploads/2024/02/WhatsApp-Image-2024-02-13-at-10.23.10.jpeg
ORGANIZER;CN="Radio Rom%C3%A2nia":MAILTO:office@gaudeamus.ro
END:VEVENT
BEGIN:VEVENT
DTSTART;VALUE=DATE:20240517
DTEND;VALUE=DATE:20240520
DTSTAMP:20260421T212857
CREATED:20240229T115448Z
LAST-MODIFIED:20240304T135220Z
UID:10000313-1715904000-1716163199@oradea.ro
SUMMARY:Jocurile Naționale Special Olympics România
DESCRIPTION:Jocurile Naționale Special Olympics\, cel mai mare eveniment sportiv pentru persoanele cu dizabilități din România\, se vor desfășura anul acesta la Oradea. Evenimentul va aduce împreună peste 300 de sportivi cu dizabilități intelectuale din toată țara\, antrenori\, medici și specialiști voluntari. Sporturile la care se vor organiza competițiile sunt: atletism\, baschet unificat\, bocce și înot.
URL:https://oradea.ro/eveniment/jocurile-nationale-special-olympics-romania/
LOCATION:Oradea\, Piața Unirii nr. 1\, Oradea\, Bihor\, România
CATEGORIES:Sport,Competitie
ATTACH;FMTTYPE=image/jpeg:https://oradea.ro/wp-content/uploads/2024/02/AK_2021-scaled.jpg
ORGANIZER;CN="Funda%C8%9Bia Special Olympics din Rom%C3%A2nia":MAILTO:info@specialolympics.ro
END:VEVENT
END:VCALENDAR