BEGIN:VCALENDAR
VERSION:2.0
PRODID:-//Oradea.ro - ECPv6.15.12.2//NONSGML v1.0//EN
CALSCALE:GREGORIAN
METHOD:PUBLISH
X-ORIGINAL-URL:https://oradea.ro
X-WR-CALDESC:Evenimente pentru Oradea.ro
REFRESH-INTERVAL;VALUE=DURATION:PT1H
X-Robots-Tag:noindex
X-PUBLISHED-TTL:PT1H
BEGIN:VTIMEZONE
TZID:Europe/Helsinki
BEGIN:DAYLIGHT
TZOFFSETFROM:+0200
TZOFFSETTO:+0300
TZNAME:EEST
DTSTART:20230326T010000
END:DAYLIGHT
BEGIN:STANDARD
TZOFFSETFROM:+0300
TZOFFSETTO:+0200
TZNAME:EET
DTSTART:20231029T010000
END:STANDARD
BEGIN:DAYLIGHT
TZOFFSETFROM:+0200
TZOFFSETTO:+0300
TZNAME:EEST
DTSTART:20240331T010000
END:DAYLIGHT
BEGIN:STANDARD
TZOFFSETFROM:+0300
TZOFFSETTO:+0200
TZNAME:EET
DTSTART:20241027T010000
END:STANDARD
BEGIN:DAYLIGHT
TZOFFSETFROM:+0200
TZOFFSETTO:+0300
TZNAME:EEST
DTSTART:20250330T010000
END:DAYLIGHT
BEGIN:STANDARD
TZOFFSETFROM:+0300
TZOFFSETTO:+0200
TZNAME:EET
DTSTART:20251026T010000
END:STANDARD
END:VTIMEZONE
BEGIN:VEVENT
DTSTART;TZID=Europe/Helsinki:20240416T170000
DTEND;TZID=Europe/Helsinki:20240601T180000
DTSTAMP:20260421T230256
CREATED:20240409T114741Z
LAST-MODIFIED:20240409T114741Z
UID:10000455-1713286800-1717264800@oradea.ro
SUMMARY:Expoziția ”Colecția de monede emise de Moldova Suverană. 195 monede de aur și argint”
DESCRIPTION:Deschiderea expoziției ”Colecția de monede emise de Moldova Suverană. 195 monede de aur și argint”\, colecție care aparține Muzeului Serviciului Vamal al Republicii Moldova\, precum și colonelului Petru Costin din Republica Moldova va avea loc în data de 16 aprilie. Această expoziție va fi deschisă publicului până în data de 1 iunie 2024.
URL:https://oradea.ro/eveniment/expozitia-colectia-de-monede-emise-de-moldova-suverana-195-monede-de-aur-si-argint/
LOCATION:Muzeul Orașului Oradea\, Piața\, Aleea Emanuil Gojdu 39-41\, Oradea\, Bihor\, 410067\, România
CATEGORIES:Expoziție
END:VEVENT
BEGIN:VEVENT
DTSTART;TZID=Europe/Helsinki:20240520T180000
DTEND;TZID=Europe/Helsinki:20240520T200000
DTSTAMP:20260421T230256
CREATED:20240513T135421Z
LAST-MODIFIED:20240513T135432Z
UID:10000475-1716228000-1716235200@oradea.ro
SUMMARY:HANDBAL | CSM Oradea vs CSM Alexandria
DESCRIPTION:– Divizia A la handbal masculin – ediția 2023/24\n– Playoff de promovare\, Etapa 14\n– Arena Antonio Alexe\, Oradea\n– Ora 18:00\n– Intrare liberă
URL:https://oradea.ro/eveniment/handbal-csm-oradea-vs-csm-alexandria/
LOCATION:Arena Antonio Alexe\, Calea Cazaban\, Nr. 3\, Oradea\, Bihor\, România
CATEGORIES:Sport
ATTACH;FMTTYPE=image/jpeg:https://oradea.ro/wp-content/uploads/2024/04/Handbal.jpg
END:VEVENT
BEGIN:VEVENT
DTSTART;TZID=Europe/Helsinki:20240520T190000
DTEND;TZID=Europe/Helsinki:20240520T210000
DTSTAMP:20260421T230256
CREATED:20240513T135233Z
LAST-MODIFIED:20240513T135233Z
UID:10000474-1716231600-1716238800@oradea.ro
SUMMARY:BASCHET | CSM CSU Oradea vs U-BT Cluj-Napoca
DESCRIPTION:– Liga Națională de baschet masculin – ediția 2023/24\n– Finala\, Meciul 4\n– Sala Polivalentă Oradea Arena\, Oradea\n– Luni (20.05.2024)\, ora 19:00
URL:https://oradea.ro/eveniment/baschet-csm-csu-oradea-vs-u-bt-cluj-napoca-2/
LOCATION:Oradea Arena
CATEGORIES:Sport
ATTACH;FMTTYPE=image/jpeg:https://oradea.ro/wp-content/uploads/2024/05/RBI8365-scaled.jpg
END:VEVENT
END:VCALENDAR