BEGIN:VCALENDAR
VERSION:2.0
PRODID:-//Oradea.ro - ECPv6.15.12.2//NONSGML v1.0//EN
CALSCALE:GREGORIAN
METHOD:PUBLISH
X-ORIGINAL-URL:https://oradea.ro
X-WR-CALDESC:Evenimente pentru Oradea.ro
REFRESH-INTERVAL;VALUE=DURATION:PT1H
X-Robots-Tag:noindex
X-PUBLISHED-TTL:PT1H
BEGIN:VTIMEZONE
TZID:Europe/Helsinki
BEGIN:DAYLIGHT
TZOFFSETFROM:+0200
TZOFFSETTO:+0300
TZNAME:EEST
DTSTART:20230326T010000
END:DAYLIGHT
BEGIN:STANDARD
TZOFFSETFROM:+0300
TZOFFSETTO:+0200
TZNAME:EET
DTSTART:20231029T010000
END:STANDARD
BEGIN:DAYLIGHT
TZOFFSETFROM:+0200
TZOFFSETTO:+0300
TZNAME:EEST
DTSTART:20240331T010000
END:DAYLIGHT
BEGIN:STANDARD
TZOFFSETFROM:+0300
TZOFFSETTO:+0200
TZNAME:EET
DTSTART:20241027T010000
END:STANDARD
BEGIN:DAYLIGHT
TZOFFSETFROM:+0200
TZOFFSETTO:+0300
TZNAME:EEST
DTSTART:20250330T010000
END:DAYLIGHT
BEGIN:STANDARD
TZOFFSETFROM:+0300
TZOFFSETTO:+0200
TZNAME:EET
DTSTART:20251026T010000
END:STANDARD
END:VTIMEZONE
BEGIN:VEVENT
DTSTART;TZID=Europe/Helsinki:20240905T080000
DTEND;TZID=Europe/Helsinki:20240907T170000
DTSTAMP:20260424T044754
CREATED:20240821T060810Z
LAST-MODIFIED:20240830T072713Z
UID:10000519-1725523200-1725728400@oradea.ro
SUMMARY:Turneul Memorial Andrei Drăghici la polo pe apă - ediția a 2-a | Bazinul Olimpic Ioan Alexandrescu | 5-7 Septembrie 2024
DESCRIPTION:În perioada 5-7 Septembrie 2024\, la bazinul olimpic Ioan Alexandrescu din Oradea\, se va desfășura turneul memorial Andrei Drăghici la polo pe apă. Evenimentul a ajuns la cea de-a 2-a ediție și are loc cu câteva zile înaintea startului oficial pentru sezonul competițional 2024/25. CSM Oradea\, din postură de organizator și gazdă a evenimentului\, își va testa potențialul în compania unor echipe redutabile din România și țările învecinate. \nProgramul turneului este următorul: \nZiua 1 – Joi (05.09.2024)\n– 18:30\, VK Sabac vs CSM Oradea\n– 20:15\, Dinamo București vs Rapid București \nZiua 2 – Vineri (06.09.2024)\n– 18:30\, CSM Oradea vs Dinamo București\n– 20:15\, Rapid București vs VK Sabac \nZiua 3 – Sâmbătă (07.09.2024)\n– 10:00\, Dinamo București vs VK Sabac\n– 11:45\, CSM Oradea vs Rapid București \nIntrarea publicului la aceste meciuri va fi liberă.
URL:https://oradea.ro/eveniment/turneul-memorial-andrei-draghici-editia-a-2-a-bazinul-olimpic-ioan-alexandrescu-5-7-septembrie-2024/
LOCATION:Bihor
CATEGORIES:Sport
ATTACH;FMTTYPE=image/jpeg:https://oradea.ro/wp-content/uploads/2024/03/BazinulIoanAlexandrescuInotPolo.jpg
END:VEVENT
END:VCALENDAR