BEGIN:VCALENDAR
VERSION:2.0
PRODID:-//Oradea.ro - ECPv6.15.12.2//NONSGML v1.0//EN
CALSCALE:GREGORIAN
METHOD:PUBLISH
X-WR-CALNAME:Oradea.ro
X-ORIGINAL-URL:https://oradea.ro
X-WR-CALDESC:Evenimente pentru Oradea.ro
REFRESH-INTERVAL;VALUE=DURATION:PT1H
X-Robots-Tag:noindex
X-PUBLISHED-TTL:PT1H
BEGIN:VTIMEZONE
TZID:Europe/Helsinki
BEGIN:DAYLIGHT
TZOFFSETFROM:+0200
TZOFFSETTO:+0300
TZNAME:EEST
DTSTART:20230326T010000
END:DAYLIGHT
BEGIN:STANDARD
TZOFFSETFROM:+0300
TZOFFSETTO:+0200
TZNAME:EET
DTSTART:20231029T010000
END:STANDARD
BEGIN:DAYLIGHT
TZOFFSETFROM:+0200
TZOFFSETTO:+0300
TZNAME:EEST
DTSTART:20240331T010000
END:DAYLIGHT
BEGIN:STANDARD
TZOFFSETFROM:+0300
TZOFFSETTO:+0200
TZNAME:EET
DTSTART:20241027T010000
END:STANDARD
BEGIN:DAYLIGHT
TZOFFSETFROM:+0200
TZOFFSETTO:+0300
TZNAME:EEST
DTSTART:20250330T010000
END:DAYLIGHT
BEGIN:STANDARD
TZOFFSETFROM:+0300
TZOFFSETTO:+0200
TZNAME:EET
DTSTART:20251026T010000
END:STANDARD
END:VTIMEZONE
BEGIN:VEVENT
DTSTART;TZID=Europe/Helsinki:20240922T110000
DTEND;TZID=Europe/Helsinki:20240922T120000
DTSTAMP:20260424T044636
CREATED:20240916T091106Z
LAST-MODIFIED:20240916T091106Z
UID:10000543-1727002800-1727006400@oradea.ro
SUMMARY:Piesa de teatru - APOLODOR\, PINGUINUL CĂLĂTOR
DESCRIPTION:Informații despre piesa de teatru: https://www.teatrulreginamaria.ro/ro/trupa-arcadia/spectacole/1601-apolodor-pinguinul-calator
URL:https://oradea.ro/eveniment/piesa-de-teatru-apolodor-pinguinul-calator/
LOCATION:Sala Arcadia\, Vasile Alecsandri\, Pasajul Vulturul Negru nr. 8\, Oradea\, Bihor\, România
CATEGORIES:Teatru
END:VEVENT
BEGIN:VEVENT
DTSTART;TZID=Europe/Helsinki:20240922T183000
DTEND;TZID=Europe/Helsinki:20240922T203000
DTSTAMP:20260424T044636
CREATED:20240920T104325Z
LAST-MODIFIED:20240920T104616Z
UID:10000591-1727029800-1727037000@oradea.ro
SUMMARY:HANDBAL | CSM Oradea vs CS Universitatea Craiova | Divizia A Masculin - ediția 2024/24\, Seria A\, Etapa 2 | Arena Antonio Alexe
DESCRIPTION:Echipa de handbal masculin CSM Oradea susține primul joc pe teren propriu în sezonul 2024/25. Duminică (22.09)\, ora 18:30\, formația roș-albastră primește replica echipei Universitatea Craiova. \nJocul se va desfășura la Arena Antonio Alexe din Oradea. Intrarea publicului va fi liberă. \nPartida face parte din programul etapei a 2-a. În cadrul rundei inaugurale ambele echipe au învins. \nGruparea pregătită de Cosmin Liberț și Dan Pițigoi a triumfat pe terenul lui CSU Constantin Brâncuși Târgu Jiu\, scor 39-22. În schimb\, Craiova a depășit pe CSU Politehnica Timișoara\, scor 37-28. \nProgramul complet al rundei ce are loc duminică (22.09): \n– CSM Reșița vs Universitatea Cluj-Napoca – ora 12:00\n– CS Unirea Sânnicolau Mare vs CSU Constantin Brâncuși Târgu Jiu – ora 14:00\n– CSM Oradea vs CS Universitatea Craiova – ora 18:30\n– CSU Politehnica Timișoara stă
URL:https://oradea.ro/eveniment/handbal-csm-oradea-vs-cs-universitatea-craiova-divizia-a-masculin-editia-2024-24-seria-a-etapa-2-arena-antonio-alexe/
LOCATION:Arena Antonio Alexe\, Calea Cazaban\, Nr. 3\, Oradea\, Bihor\, România
CATEGORIES:Sport
ATTACH;FMTTYPE=image/jpeg:https://oradea.ro/wp-content/uploads/2024/09/CSMOHandbal.jpg
END:VEVENT
BEGIN:VEVENT
DTSTART;TZID=Europe/Helsinki:20240922T190000
DTEND;TZID=Europe/Helsinki:20240922T210000
DTSTAMP:20260424T044636
CREATED:20240916T083932Z
LAST-MODIFIED:20240916T083932Z
UID:10000527-1727031600-1727038800@oradea.ro
SUMMARY:Piesa de teatru - Strigăte și șoapte
DESCRIPTION:Informații despre piesa de teatru: https://www.szigligeti.ro/eloadasok/nagyvaradtancegyuttes/Suttog%C3%A1sok+%C3%A9s+sikolyok/904
URL:https://oradea.ro/eveniment/piesa-de-teatru-strigate-si-soapte/
LOCATION:Sala Transilvania\, Piața Regele Ferdinand I\, Oradea\, Bihor\, 410021\, România
CATEGORIES:Teatru
END:VEVENT
BEGIN:VEVENT
DTSTART;TZID=Europe/Helsinki:20240922T190000
DTEND;TZID=Europe/Helsinki:20240922T210000
DTSTAMP:20260424T044636
CREATED:20240916T090543Z
LAST-MODIFIED:20240916T091613Z
UID:10000540-1727031600-1727038800@oradea.ro
SUMMARY:Piesa de teatru -  Tartuffe
DESCRIPTION:Informații despre piesa de teatru: https://www.teatrulreginamaria.ro/ro/trupa-iosif-vulcan/spectacole/2619-tartuffe
URL:https://oradea.ro/eveniment/piesa-de-teatru-tartuffe/
LOCATION:Teatrul Regina Maria\, Piaţa Ferdinand I nr. 6\, Oradea\, Bihor\, România
CATEGORIES:Teatru
END:VEVENT
END:VCALENDAR