BEGIN:VCALENDAR
VERSION:2.0
PRODID:-//Oradea.ro - ECPv6.15.12.2//NONSGML v1.0//EN
CALSCALE:GREGORIAN
METHOD:PUBLISH
X-WR-CALNAME:Oradea.ro
X-ORIGINAL-URL:https://oradea.ro
X-WR-CALDESC:Evenimente pentru Oradea.ro
REFRESH-INTERVAL;VALUE=DURATION:PT1H
X-Robots-Tag:noindex
X-PUBLISHED-TTL:PT1H
BEGIN:VTIMEZONE
TZID:Europe/Helsinki
BEGIN:DAYLIGHT
TZOFFSETFROM:+0200
TZOFFSETTO:+0300
TZNAME:EEST
DTSTART:20230326T010000
END:DAYLIGHT
BEGIN:STANDARD
TZOFFSETFROM:+0300
TZOFFSETTO:+0200
TZNAME:EET
DTSTART:20231029T010000
END:STANDARD
BEGIN:DAYLIGHT
TZOFFSETFROM:+0200
TZOFFSETTO:+0300
TZNAME:EEST
DTSTART:20240331T010000
END:DAYLIGHT
BEGIN:STANDARD
TZOFFSETFROM:+0300
TZOFFSETTO:+0200
TZNAME:EET
DTSTART:20241027T010000
END:STANDARD
BEGIN:DAYLIGHT
TZOFFSETFROM:+0200
TZOFFSETTO:+0300
TZNAME:EEST
DTSTART:20250330T010000
END:DAYLIGHT
BEGIN:STANDARD
TZOFFSETFROM:+0300
TZOFFSETTO:+0200
TZNAME:EET
DTSTART:20251026T010000
END:STANDARD
END:VTIMEZONE
BEGIN:VEVENT
DTSTART;TZID=Europe/Helsinki:20240924T190000
DTEND;TZID=Europe/Helsinki:20240924T210000
DTSTAMP:20260424T044641
CREATED:20240916T084154Z
LAST-MODIFIED:20240916T084154Z
UID:10000528-1727204400-1727211600@oradea.ro
SUMMARY:Piesa de teatru - Strigăte și șoapte
DESCRIPTION:Informații despre piesa de teatru: https://www.szigligeti.ro/eloadasok/nagyvaradtancegyuttes/Suttog%C3%A1sok+%C3%A9s+sikolyok/904
URL:https://oradea.ro/eveniment/piesa-de-teatru-strigate-si-soapte-2/
LOCATION:Sala Transilvania\, Piața Regele Ferdinand I\, Oradea\, Bihor\, 410021\, România
CATEGORIES:Teatru
END:VEVENT
END:VCALENDAR