BEGIN:VCALENDAR
VERSION:2.0
PRODID:-//Oradea.ro - ECPv6.15.12.2//NONSGML v1.0//EN
CALSCALE:GREGORIAN
METHOD:PUBLISH
X-WR-CALNAME:Oradea.ro
X-ORIGINAL-URL:https://oradea.ro
X-WR-CALDESC:Evenimente pentru Oradea.ro
REFRESH-INTERVAL;VALUE=DURATION:PT1H
X-Robots-Tag:noindex
X-PUBLISHED-TTL:PT1H
BEGIN:VTIMEZONE
TZID:Europe/Helsinki
BEGIN:DAYLIGHT
TZOFFSETFROM:+0200
TZOFFSETTO:+0300
TZNAME:EEST
DTSTART:20240331T010000
END:DAYLIGHT
BEGIN:STANDARD
TZOFFSETFROM:+0300
TZOFFSETTO:+0200
TZNAME:EET
DTSTART:20241027T010000
END:STANDARD
BEGIN:DAYLIGHT
TZOFFSETFROM:+0200
TZOFFSETTO:+0300
TZNAME:EEST
DTSTART:20250330T010000
END:DAYLIGHT
BEGIN:STANDARD
TZOFFSETFROM:+0300
TZOFFSETTO:+0200
TZNAME:EET
DTSTART:20251026T010000
END:STANDARD
BEGIN:DAYLIGHT
TZOFFSETFROM:+0200
TZOFFSETTO:+0300
TZNAME:EEST
DTSTART:20260329T010000
END:DAYLIGHT
BEGIN:STANDARD
TZOFFSETFROM:+0300
TZOFFSETTO:+0200
TZNAME:EET
DTSTART:20261025T010000
END:STANDARD
END:VTIMEZONE
BEGIN:VEVENT
DTSTART;TZID=Europe/Helsinki:20250329T080000
DTEND;TZID=Europe/Helsinki:20250330T170000
DTSTAMP:20260424T184215
CREATED:20250228T061815Z
LAST-MODIFIED:20250228T061815Z
UID:10000682-1743235200-1743354000@oradea.ro
SUMMARY:ÎNOT | Campionatul Național de Înot\, Etapa regională cadeți (12-13 ani) | 29-30 Martie 2025 | Bazinul olimpic Ioan Alexandrescu
DESCRIPTION:Campionatul Național de Înot 2025 \n\nCategoria de vârstă: Cadeți (12-13 ani)\nEtapă regională\nBazinul olimpic Ioan Alexandrescu din Oradea\n29-30 Martie 2025
URL:https://oradea.ro/eveniment/inot-campionatul-national-de-inot-etapa-regionala-cadeti-12-13-ani-29-30-martie-2025-bazinul-olimpic-ioan-alexandrescu/
LOCATION:Bazinul Olimpic Ioan Alexandrescu\, Bazinul Olimpic Ioan Alexandrescu\, Al. Strandului\, 5\, Oradea\, Bihor\, România
CATEGORIES:Sport
ATTACH;FMTTYPE=image/jpeg:https://oradea.ro/wp-content/uploads/2024/03/BazinulIoanAlexandrescuInotPolo.jpg
END:VEVENT
END:VCALENDAR