BEGIN:VCALENDAR
VERSION:2.0
PRODID:-//Oradea.ro - ECPv6.15.12.2//NONSGML v1.0//EN
CALSCALE:GREGORIAN
METHOD:PUBLISH
X-WR-CALNAME:Oradea.ro
X-ORIGINAL-URL:https://oradea.ro
X-WR-CALDESC:Evenimente pentru Oradea.ro
REFRESH-INTERVAL;VALUE=DURATION:PT1H
X-Robots-Tag:noindex
X-PUBLISHED-TTL:PT1H
BEGIN:VTIMEZONE
TZID:Europe/Helsinki
BEGIN:DAYLIGHT
TZOFFSETFROM:+0200
TZOFFSETTO:+0300
TZNAME:EEST
DTSTART:20240331T010000
END:DAYLIGHT
BEGIN:STANDARD
TZOFFSETFROM:+0300
TZOFFSETTO:+0200
TZNAME:EET
DTSTART:20241027T010000
END:STANDARD
BEGIN:DAYLIGHT
TZOFFSETFROM:+0200
TZOFFSETTO:+0300
TZNAME:EEST
DTSTART:20250330T010000
END:DAYLIGHT
BEGIN:STANDARD
TZOFFSETFROM:+0300
TZOFFSETTO:+0200
TZNAME:EET
DTSTART:20251026T010000
END:STANDARD
BEGIN:DAYLIGHT
TZOFFSETFROM:+0200
TZOFFSETTO:+0300
TZNAME:EEST
DTSTART:20260329T010000
END:DAYLIGHT
BEGIN:STANDARD
TZOFFSETFROM:+0300
TZOFFSETTO:+0200
TZNAME:EET
DTSTART:20261025T010000
END:STANDARD
END:VTIMEZONE
BEGIN:VEVENT
DTSTART;VALUE=DATE:20250411
DTEND;VALUE=DATE:20250422
DTSTAMP:20260424T144613
CREATED:20250409T065056Z
LAST-MODIFIED:20250409T065731Z
UID:10000697-1744329600-1745279999@oradea.ro
SUMMARY:Târgul de Paști Oradea
DESCRIPTION:Cetatea Oradea va îmbrăca în perioada 11 – 21 aprilie haine de primăvară și va deveni punctul de atracție al sărbătorilor pascale\, atât prin multitudinea de activități pentru copii și familii\, cât și prin diversitatea de bunătăți și produse locale. Timp de 11 zile ne vom bucura\, cu mic\, cu mare de mâncăruri gustoase\, jocuri și activități educative pentru copii\, ateliere de încondeiat ouă\, țesut\, tâmplărie\, pictură\, pictură pe ipsos și pictură pe față\, scenete de teatru\, activități sportive și căsuțe cu cadouri inspirate pentru toată lumea. \nProgramul ediției 2025 a Târgului de Paști Oradea este bogat în activități tematice\, dar și în ceea ce privește jocurile și activitățile de divertisment pentru cei mici și mari. Programul zilnic și lista completă a activităților târgului vor putea fi consultate pe pagina de Facebook: @targuldepastioradea și pe site-ul targuldepastioradea.ro \nTârgul de Paști Oradea este un eveniment organizat de Visit Oradea și Primăria Municipiului Oradea. \nPartenerii acestei ediții: Centrul de Cultură al Județului Bihor\, Direcția de Asistență Socială Oradea\, Inspectoratul Școlar Județean Bihor\, Palatul Copiilor Oradea\, International School of Oradea. \nIntrarea este liberă! \nProgramul Târgului de Paști Oradea \n \n  \n11 aprilie\, vineri \nProgramul târgului: 16:00-21:00 \n16-20 Atelier de tâmplărie – ateliere meșteșugărești \n16-18 Atelier împâslire a lânii – ateliere meșteșugărești \n16-19 „Mânuțe creative” – expoziție organizată de Direcția de Asistență Socială Oradea \n16-19 Hop around the world – International School of Oradea \n16-17 Întâlnire cu Iepurașul \n16-17 Baby Yoga \n17-18 Pictează Oul Gigantic – atelier distractiv \n17-18 Atelier încondeiat ouă – Centrul de Cultură al Județului Bihor \n17-18 Baloane modelate \n17-20 Pictură pe față \n17-20 Pictură pe figurine de ipsos \n17-20 Jocuri interactive cu obiecte de lemn pentru copii și adulți \n18-19 Atelier dulgherit – Centrul de Cultură al Județului Bihor \n18-19 Pictură pe față \n18-19 Întâlnire cu Iepurașul \n19-20 Ateliere de creație cu nisip kinetic \n20-21 Pictură pe față \n12 aprilie\, sâmbătă \nProgramul târgului: 12:00-21:00 \n12- 20 Atelier de tâmplărie – ateliere meșteșugărești \n12-13 Atelier de țesături – Centrul de Cultură al Județului Bihor \n12-15 Târgul Direcției de Asistență Socială Oradea \n12-15 Hop around the world – International School of Oradea \n12-16 Pictură pe figurine de ipsos \n12-16 Pictură pe față \n12-16 Jocuri interactive cu obiecte de lemn pentru copii și adulți \n13-14 Întâlnire cu Iepurașul \n13-14 Pictează Oul Gigantic – Atelier distractiv \n13-14 Atelier încondeiat ouă – Centrul de Cultură al Județului Bihor \n14-17 Egg Hunt \n15-18 Atelier împâslire a lânii – Ateliere meșteșugărești \n15-16 Atelier de mărgelit – Centrul de Cultură al Județului Bihor \n16-17 Întâlnire cu Iepurașul \n16-17 Baby Yoga \n16-17 Spectacol de teatru – Profu’ Trăsnit cu Șerban Borda \n16-20 Activități sportive – fotbal \n16-20 Atelier de modelare a lutului – Ateliere meșteșugărești \n17-18 Atelier încondeiat ouă – Centrul de Cultură al Județului Bihor \n17-19 Baloane modelate \n18-19 Atelier de dulgherit – Centrul de Cultură al Județului Bihor \n18-19 Întâlnire cu Iepurașul \n19-20 Ateliere de creație cu nisip kinetic \n20-21 Picturi pe față \n13 aprilie\, duminică \nProgramul târgului: 12:00-21:00 \n12- 20 Atelier de tâmplărie – ateliere meșteșugărești \n12-16 Pictură pe figurine de ipsos \n12-16 Pictură pe față \n12-16 Jocuri interactive cu obiecte de lemn pentru copii și adulți \n12-16 Atelier împâslire a lânii – ateliere meșteșugărești \n13-14 Atelier încondeiat ouă – Centrul de Cultură al Județului Bihor \n13-14 Întâlnire cu Iepurașul \n13-14 Pictează Oul Gigantic – Atelier distractiv \n13-14 Spectacol teatru- ȘȘȘȘT! Silent Comedy cu Șerban Borda \n15-16 Atelier de dulgherit – Centrul de Cultură al Județului Bihor \n16-20 Activități sportive – fotbal \n16-17 Întâlnire cu Iepurașul \n16-17 Baby Yoga \n16-20 Atelier de modelare a lutului – Ateliere meșteșugărești \n16-20 Ateliere pictură pe sticlă și pânză \n17-19 Baloane modelate \n17-18 Atelier încondeiat ouă – Centrul de Cultură al Județului Bihor \n18-19 Întâlnire cu iepurașul \n18-18.30 Pricesne – Centrul de Cultură al Județului Bihor \n20-21 Ateliere de creație cu nisip kinetic \n14 aprilie\, luni \nProgramul târgului: 16:00-21:00 \n16-17 Întâlnire cu iepurașul \n16-20 Atelier de tâmplărie – ateliere meșteșugărești \n16-17 Atelier încondeiat ouă – Centrul de Cultură al Județului Bihor \n16-18 Spune nu drogurilor! – Inspectoratul de Poliție Județean Bihor \n16-18 Ouă de Paște\, colaj pe carton cu semințe și flori – Copilărie printre ierburi \n16-17 Baby yoga \n16-18 Atelier împâslire a lânii – ateliere meșteșugărești \n16-19 Atelier Origami – Asociația Română de Qigong Falun Dafa România \n17-18 Pictează Oul Gigantic \n17-18 Atelier încondeiat ouă – Centrul de Cultură al Județului Bihor \n17-20 Picturi pe față \n17-20 Pictură pe figurine de ipsos \n17-20 Jocuri interactive cu obiecte de lemn pentru copii și adulți \n17:30- 19:00 Spectacol de teatru – Trupa APRENTIS – Profesor Coordonator \nOtilia Olah – Palatul Copiilor Oradea \n17:30- 19:00 Instrumente Muzicale Tradiționale – Profesor coordonator Paul Sala – \nPalatul Copiilor Oradea \n18-19 Întâlnire cu Iepurașul \n19-20 Ateliere de creație cu nisip kinetic \n19-20 Baloane modelate \n20-21 Picturi pe față \n15 aprilie\, marți \nProgramul târgului: 16:00-21:00 \n16-17 Întâlnire cu iepurașul \n16-17 Picturi pe față \n16-20 Atelier de tâmplărie – ateliere meșteșugărești \n16-18 Atelier de educație rutieră – Inspectoratul de Poliție Județean Bihor \n16-17 Baby yoga \n16-20 Atelier Origami- Asociația Română de Qigong Falun Dafa România \n16-17 Atelier țesături – Centrul de Cultură al Județului Bihor \n16-18 Atelier de modelare a lutului – ateliere meșteșugărești \n17-18 Pictează Oul Gigantic \n17-18 Atelier încondeiat ouă – Centrul de Cultură al Județului Bihor \n17-20 Pictură pe figurine de ipsos \n17-19 Borcanul cu grâu – Copilărie printre ierburi \n17-20 Picturi pe față \n17-20 Jocuri interactive cu obiecte de lemn pentru copii și adulți \n18-19 Întâlnire cu iepurașul \n18-19 Atelier de mărgelit – Centrul de Cultură al Județului Bihor \n18-19 Atelier împletituri – Centrul de Cultură al Județului Bihor \n20-21 Atelier de colorat \n16 aprilie\, miercuri \nProgramul târgului: 12:00-21:00 \n16-17 Întâlnire cu iepurașul \n16-17 Atelier de creație \n16-20 Atelier de tâmplărie – Ateliere meșteșugărești \n16-17 Baby yoga \n16-17 Atelier țesături – Centrul de Cultură al Județului Bihor \n16-19 Atelier împâslire a lânii – ateliere meșteșugărești \n16-18 Săculețul cu comori – Copilărie printre ierburi \n17-18 Atelier încondeiat ouă – Centrul de Cultură al Județului Bihor \n17-18 Pictează Oul Gigantic \n17-18 Spectacol teatru- Scufița Rosie -Teatrul Liliput \n17-20 Pictură pe figurine de ipsos \n17-19 Pictură pe față \n17-20 Jocuri interactive cu obiecte de lemn pentru copii și adulți \n18-19 Atelier de mărgelit – Centrul de Cultură al Județului Bihor \n18-19 Atelier împletituri – Centrul de Cultură al Județului Bihor \n18-19 Întâlnire cu iepurașul \n18-21 Dans Modern Showdance – Trupa Kaliope Oradea profesor Coordonator Anca Kovacs – Palatul Copiilor Oradea \n18-21 Canto Muzică Ușoară și Instrumentală Grupul Vocal Kharisma – profesor coordonator Dana Maria Oprescu – Palatul Copiilor Oradea \n19-20 Pictură pe față \n19-21 Ateliere de creație cu nisip kinetic \n17 aprilie\, joi \nProgramul târgului: 16:00-21:00 \n16-17 Întâlnire cu iepurașul \n16-20 Atelier de tâmplărie – ateliere meșteșugărești \n16-17 Atelier țesături – Centrul de Cultură al Județului Bihor \n16-17 Atelier împletituri – Centrul de Cultură al Județului Bihor \n16-18 Atelier de modelare a lutului – ateliere meșteșugărești \n16-20 Atelier Origami – Asociația Română de Qigong Falun Dafa România \n16-17 Atelier de creație \n16-17 Baby yoga \n17-18 Pictează Oul Gigantic \n17-18 Atelier încondeiat ouă – Centrul de Cultură al Județului Bihor \n17-20 Pictură pe figurine de ipsos \n17-20 Picturi pe față \n17-20 Jocuri interactive cu obiecte de lemn pentru copii și adulți \n17-17.45 \,\,Veniți Creștini la Rugăciune”- Asociația Grup Vocal Florile Bihorului – moment artistic oferit de prof. Anamaria Gal și Grupul Vocal “Moștenitorii Cântecului” \n18-19 Întâlnire cu Iepurașul \n18-19 Atelier de țesut – Centrul de Cultură al Județului Bihor \n18-20 Ateliere de creație cu nisip kinetic \n20-21 Baloane modelate \n18 aprilie\, vineri \nProgramul târgului: 12:00-21:00 \n12- 20 Atelier de tâmplărie – ateliere meșteșugărești \n12-16 Picturi pe față \n12-16 Atelier Origami – Asociația Română de Qigong Falun Dafa România \n12-14 Ouă de Paște\, colaj pe carton cu semințe și flori – Copilărie printre ierburi \n12-16 Pictură pe figurine de ipsos \n12-16 Jocuri interactive cu obiecte de lemn pentru copii și adulți \n12-13 Atelier încondeiat ouă – Centrul de Cultură al Județului Bihor \n13-14 Întâlnire cu iepurașul \n13-14 Pictează Oul Gigantic \n15-19 Atelier împâslire a lânii – ateliere meșteșugărești \n15-16 Atelier încondeiat ouă – Centrul de Cultură al Județului Bihor \n16-17 Întâlnire cu iepurașul \n16-17 Baby yoga \n16-18 Atelier de colorat \n16-20 Ateliere pictură pe sticlă și pânză \n17-20 Atelier de modelare a lutului – ateliere meșteșugărești \n17-18 Atelier încondeiat ouă – Centrul de Cultură al Județului Bihor \n17-18 Pictură pe față \n17-17.45 \,\,Veniți Creștini la Rugăciune”- Asociația Grup Vocal Florile Bihorului – moment artistic oferit de prof. Anamaria Gal și Grupul Vocal “Moștenitorii Cântecului” \n18-19 Atelier de țesut – Centrul de Cultură al Județului Bihor \n18-19 Întâlnire cu iepurașul \n18-19 Modelare baloane \n20-21 Ateliere de creație cu nisip kinetic \n19 aprilie\, sâmbătă \nProgramul târgului: 12:00-21:00 \n12- 20 Atelier activități tâmplărie – ateliere meșteșugărești \n12-16 Picturi pe față \n12-16 Atelier Origami- Asociația Română de Qigong Falun Dafa România \n12-16 Pictură pe figurine de ipsos \n12-16 Jocuri interactive cu obiecte de lemn pentru copii și adulți \n12-13 Atelier încondeiat ouă – Centrul de Cultură al Județului Bihor \n13-14 Întâlnire cu Iepurașul \n13-14 Pictează Oul Gigantic \n15-16 Atelier încondeiat ouă – Centrul de Cultură al Județului Bihor \n16-17 Întâlnire cu Iepurașul \n16-17 Baby yoga \n16-19 Atelier împâslire a lânii – ateliere meșteșugărești \n16-19 Atelier de modelare a lutului – ateliere meșteșugărești \n16-20 Ateliere pictură pe sticlă și pânză \n16-20 Activități sportive – fotbal \n17-18 Atelier încondeiat ouă – Centrul de Cultură al Județului Bihor \n17-18 Spectacol teatru – Profu’ Trăsnit cu Șerban Borda \n17-18 Pictură pe față \n18-19 Atelier de țesut – Centrul de Cultură al Județului Bihor \n18-19 Întâlnire cu Iepurașul \n19-20 Ateliere de creație cu nisip kinetic \n19-20 Baloane modelate \n20-21 Atelier distractiv de colorat \n20 aprilie\, duminică \nProgramul târgului: 12:00- 21:00 \n12- 20 Atelier de tâmplărie – ateliere meșteșugărești \n12-16 Atelier Origami – Asociația Română de Qigong Falun Dafa România \n12-16 Pictură pe figurine de ipsos \n12-16 Jocuri interactive cu obiecte de lemn pentru copii și adulți \n12-16 Picturi pe față \n13-14 Întâlnire cu iepurașul \n13-14 Pictează Oul Gigantic \n14-15 Spectacol teatru – ȘȘȘȘT! Silent Comedy cu Șerban Borda \n16-17 Întâlnire cu Iepurașul \n16-17 Baby yoga \n16-19 Atelier împâslire a lânii – ateliere meșteșugărești \n16-19 Atelier de modelare a lutului – ateliere meșteșugărești \n16-20 Ateliere pictură pe sticlă și pânză \n16-20 Activități sportive – fotbal \n17-18 Atelier încondeiat ouă – Centrul de Cultură al Județului Bihor \n18-19 Întâlnire cu Iepurașul \n18-19 Atelier de țesut – Centrul de Cultură al Județului Bihor \n19-20 Ateliere de creație cu nisip kinetic \n19-20 Baloane modelate \n21 aprilie\, luni \nProgramul târgului: 12:00- 21:00 \n12- 20 Atelier de tâmplărie – ateliere meșteșugărești \n12-16 Picturi pe față \n12-13 Atelier de țesut – Centrul de Cultură al Județului Bihor \n12-16 Atelier Origami- Asociația Română de Qigong Falun Dafa România \n12-16 Pictură pe figurine de ipsos \n12-16 Jocuri interactive cu obiecte de lemn pentru copii și adulți \n13-14 Întâlnire cu Iepurașul \n13-14 Pictează Oul Gigantic \n15-16 Atelier de mărgelit – Centrul de Cultură al Județului Bihor \n16-17 Întâlnire cu Iepurașul \n16-17 Baby yoga \n16-19 Atelier împâslire a lânii – Ateliere meșteșugărești \n16-19 Atelier de modelare a lutului – Ateliere meșteșugărești \n16-20 Ateliere pictură pe sticlă și pânză \n17-18 Atelier încondeiat ouă – Centrul de Cultură al Județului Bihor \n18-19 Întâlnire cu Iepurașul \n19-20 Atelier distractiv – modelare nisip kinetic \n19-20 Baloane modelate
URL:https://oradea.ro/eveniment/targul-de-pasti-oradea-3/
LOCATION:Cetatea Oradea\, Piata Emanuil Gojdu 41\, Oradea\, Bihor\, 410067\, România
END:VEVENT
BEGIN:VEVENT
DTSTART;VALUE=DATE:20250411
DTEND;VALUE=DATE:20250422
DTSTAMP:20260424T144613
CREATED:20250409T065900Z
LAST-MODIFIED:20250507T054429Z
UID:10000698-1744329600-1745279999@oradea.ro
SUMMARY:Târgul de Paști Oradea
DESCRIPTION:Cetatea Oradea va îmbrăca în perioada 11 – 21 aprilie haine de primăvară și va deveni punctul de atracție al sărbătorilor pascale\, atât prin multitudinea de activități pentru copii și familii\, cât și prin diversitatea de bunătăți și produse locale. Timp de 11 zile ne vom bucura\, cu mic\, cu mare de mâncăruri gustoase\, jocuri și activități educative pentru copii\, ateliere de încondeiat ouă\, țesut\, tâmplărie\, pictură\, pictură pe ipsos și pictură pe față\, scenete de teatru\, activități sportive și căsuțe cu cadouri inspirate pentru toată lumea. \nProgramul ediției 2025 a Târgului de Paști Oradea este bogat în activități tematice\, dar și în ceea ce privește jocurile și activitățile de divertisment pentru cei mici și mari. Programul zilnic și lista completă a activităților târgului vor putea fi consultate pe pagina de Facebook: @targuldepastioradea și pe site-ul targuldepastioradea.ro \nTârgul de Paști Oradea este un eveniment organizat de Visit Oradea și Primăria Municipiului Oradea. \nPartenerii acestei ediții: Centrul de Cultură al Județului Bihor\, Direcția de Asistență Socială Oradea\, Inspectoratul Școlar Județean Bihor\, Palatul Copiilor Oradea\, International School of Oradea. \nIntrarea este liberă! \n \n  \n11 aprilie\, vineri \nProgramul târgului: 16:00-21:00 \n16-20 Atelier de tâmplărie – ateliere meșteșugărești \n16-18 Atelier împâslire a lânii – ateliere meșteșugărești \n16-19 „Mânuțe creative” – expoziție organizată de Direcția de Asistență Socială Oradea \n16-19 Hop around the world – International School of Oradea \n16-17 Întâlnire cu Iepurașul \n16-17 Baby Yoga \n17-18 Pictează Oul Gigantic – atelier distractiv \n17-18 Atelier încondeiat ouă – Centrul de Cultură al Județului Bihor \n17-18 Baloane modelate \n17-20 Pictură pe față \n17-20 Pictură pe figurine de ipsos \n17-20 Jocuri interactive cu obiecte de lemn pentru copii și adulți \n18-19 Atelier dulgherit – Centrul de Cultură al Județului Bihor \n18-19 Pictură pe față \n18-19 Întâlnire cu Iepurașul \n19-20 Ateliere de creație cu nisip kinetic \n20-21 Pictură pe față \n12 aprilie\, sâmbătă \nProgramul târgului: 12:00-21:00 \n12- 20 Atelier de tâmplărie – ateliere meșteșugărești \n12-13 Atelier de țesături – Centrul de Cultură al Județului Bihor \n12-15 Târgul Direcției de Asistență Socială Oradea \n12-15 Hop around the world – International School of Oradea \n12-16 Pictură pe figurine de ipsos \n12-16 Pictură pe față \n12-16 Jocuri interactive cu obiecte de lemn pentru copii și adulți \n13-14 Întâlnire cu Iepurașul \n13-14 Pictează Oul Gigantic – Atelier distractiv \n13-14 Atelier încondeiat ouă – Centrul de Cultură al Județului Bihor \n14-17 Egg Hunt \n15-18 Atelier împâslire a lânii – Ateliere meșteșugărești \n15-16 Atelier de mărgelit – Centrul de Cultură al Județului Bihor \n16-17 Întâlnire cu Iepurașul \n16-17 Baby Yoga \n16-17 Spectacol de teatru – Profu’ Trăsnit cu Șerban Borda \n16-20 Activități sportive – fotbal \n16-20 Atelier de modelare a lutului – Ateliere meșteșugărești \n17-18 Atelier încondeiat ouă – Centrul de Cultură al Județului Bihor \n17-19 Baloane modelate \n18-19 Atelier de dulgherit – Centrul de Cultură al Județului Bihor \n18-19 Întâlnire cu Iepurașul \n19-20 Ateliere de creație cu nisip kinetic \n20-21 Picturi pe față \n13 aprilie\, duminică \nProgramul târgului: 12:00-21:00 \n12- 20 Atelier de tâmplărie – ateliere meșteșugărești \n12-16 Pictură pe figurine de ipsos \n12-16 Pictură pe față \n12-16 Jocuri interactive cu obiecte de lemn pentru copii și adulți \n12-16 Atelier împâslire a lânii – ateliere meșteșugărești \n13-14 Atelier încondeiat ouă – Centrul de Cultură al Județului Bihor \n13-14 Întâlnire cu Iepurașul \n13-14 Pictează Oul Gigantic – Atelier distractiv \n13-14 Spectacol teatru- ȘȘȘȘT! Silent Comedy cu Șerban Borda \n15-16 Atelier de dulgherit – Centrul de Cultură al Județului Bihor \n16-20 Activități sportive – fotbal \n16-17 Întâlnire cu Iepurașul \n16-17 Baby Yoga \n16-20 Atelier de modelare a lutului – Ateliere meșteșugărești \n16-20 Ateliere pictură pe sticlă și pânză \n17-19 Baloane modelate \n17-18 Atelier încondeiat ouă – Centrul de Cultură al Județului Bihor \n18-19 Întâlnire cu iepurașul \n18-18.30 Pricesne – Centrul de Cultură al Județului Bihor \n20-21 Ateliere de creație cu nisip kinetic \n14 aprilie\, luni \nProgramul târgului: 16:00-21:00 \n16-17 Întâlnire cu iepurașul \n16-20 Atelier de tâmplărie – ateliere meșteșugărești \n16-17 Atelier încondeiat ouă – Centrul de Cultură al Județului Bihor \n16-18 Spune nu drogurilor! – Inspectoratul de Poliție Județean Bihor \n16-18 Ouă de Paște\, colaj pe carton cu semințe și flori – Copilărie printre ierburi \n16-17 Baby yoga \n16-18 Atelier împâslire a lânii – ateliere meșteșugărești \n16-19 Atelier Origami – Asociația Română de Qigong Falun Dafa România \n17-18 Pictează Oul Gigantic \n17-18 Atelier încondeiat ouă – Centrul de Cultură al Județului Bihor \n17-20 Picturi pe față \n17-20 Pictură pe figurine de ipsos \n17-20 Jocuri interactive cu obiecte de lemn pentru copii și adulți \n17:30- 19:00 Spectacol de teatru – Trupa APRENTIS – Profesor Coordonator \nOtilia Olah – Palatul Copiilor Oradea \n17:30- 19:00 Instrumente Muzicale Tradiționale – Profesor coordonator Paul Sala – \nPalatul Copiilor Oradea \n18-19 Întâlnire cu Iepurașul \n19-20 Ateliere de creație cu nisip kinetic \n19-20 Baloane modelate \n20-21 Picturi pe față \n15 aprilie\, marți \nProgramul târgului: 16:00-21:00 \n16-17 Întâlnire cu iepurașul \n16-17 Picturi pe față \n16-20 Atelier de tâmplărie – ateliere meșteșugărești \n16-18 Atelier de educație rutieră – Inspectoratul de Poliție Județean Bihor \n16-17 Baby yoga \n16-20 Atelier Origami- Asociația Română de Qigong Falun Dafa România \n16-17 Atelier țesături – Centrul de Cultură al Județului Bihor \n16-18 Atelier de modelare a lutului – ateliere meșteșugărești \n17-18 Pictează Oul Gigantic \n17-18 Atelier încondeiat ouă – Centrul de Cultură al Județului Bihor \n17-20 Pictură pe figurine de ipsos \n17-19 Borcanul cu grâu – Copilărie printre ierburi \n17-20 Picturi pe față \n17-20 Jocuri interactive cu obiecte de lemn pentru copii și adulți \n18-19 Întâlnire cu iepurașul \n18-19 Atelier de mărgelit – Centrul de Cultură al Județului Bihor \n18-19 Atelier împletituri – Centrul de Cultură al Județului Bihor \n20-21 Atelier de colorat \n16 aprilie\, miercuri \nProgramul târgului: 12:00-21:00 \n16-17 Întâlnire cu iepurașul \n16-17 Atelier de creație \n16-20 Atelier de tâmplărie – Ateliere meșteșugărești \n16-17 Baby yoga \n16-17 Atelier țesături – Centrul de Cultură al Județului Bihor \n16-19 Atelier împâslire a lânii – ateliere meșteșugărești \n16-18 Săculețul cu comori – Copilărie printre ierburi \n17-18 Atelier încondeiat ouă – Centrul de Cultură al Județului Bihor \n17-18 Pictează Oul Gigantic \n17-18 Spectacol teatru- Scufița Rosie -Teatrul Liliput \n17-20 Pictură pe figurine de ipsos \n17-19 Pictură pe față \n17-20 Jocuri interactive cu obiecte de lemn pentru copii și adulți \n18-19 Atelier de mărgelit – Centrul de Cultură al Județului Bihor \n18-19 Atelier împletituri – Centrul de Cultură al Județului Bihor \n18-19 Întâlnire cu iepurașul \n18-21 Dans Modern Showdance – Trupa Kaliope Oradea profesor Coordonator Anca Kovacs – Palatul Copiilor Oradea \n18-21 Canto Muzică Ușoară și Instrumentală Grupul Vocal Kharisma – profesor coordonator Dana Maria Oprescu – Palatul Copiilor Oradea \n19-20 Pictură pe față \n19-21 Ateliere de creație cu nisip kinetic \n17 aprilie\, joi \nProgramul târgului: 16:00-21:00 \n16-17 Întâlnire cu iepurașul \n16-20 Atelier de tâmplărie – ateliere meșteșugărești \n16-17 Atelier țesături – Centrul de Cultură al Județului Bihor \n16-17 Atelier împletituri – Centrul de Cultură al Județului Bihor \n16-18 Atelier de modelare a lutului – ateliere meșteșugărești \n16-20 Atelier Origami – Asociația Română de Qigong Falun Dafa România \n16-17 Atelier de creație \n16-17 Baby yoga \n17-18 Pictează Oul Gigantic \n17-18 Atelier încondeiat ouă – Centrul de Cultură al Județului Bihor \n17-20 Pictură pe figurine de ipsos \n17-20 Picturi pe față \n17-20 Jocuri interactive cu obiecte de lemn pentru copii și adulți \n17-17.45 \,\,Veniți Creștini la Rugăciune”- Asociația Grup Vocal Florile Bihorului – moment artistic oferit de prof. Anamaria Gal și Grupul Vocal “Moștenitorii Cântecului” \n18-19 Întâlnire cu Iepurașul \n18-19 Atelier de țesut – Centrul de Cultură al Județului Bihor \n18-20 Ateliere de creație cu nisip kinetic \n20-21 Baloane modelate \n18 aprilie\, vineri \nProgramul târgului: 12:00-21:00 \n12- 20 Atelier de tâmplărie – ateliere meșteșugărești \n12-16 Picturi pe față \n12-16 Atelier Origami – Asociația Română de Qigong Falun Dafa România \n12-14 Ouă de Paște\, colaj pe carton cu semințe și flori – Copilărie printre ierburi \n12-16 Pictură pe figurine de ipsos \n12-16 Jocuri interactive cu obiecte de lemn pentru copii și adulți \n12-13 Atelier încondeiat ouă – Centrul de Cultură al Județului Bihor \n13-14 Întâlnire cu iepurașul \n13-14 Pictează Oul Gigantic \n15-19 Atelier împâslire a lânii – ateliere meșteșugărești \n15-16 Atelier încondeiat ouă – Centrul de Cultură al Județului Bihor \n16-17 Întâlnire cu iepurașul \n16-17 Baby yoga \n16-18 Atelier de colorat \n16-20 Ateliere pictură pe sticlă și pânză \n17-20 Atelier de modelare a lutului – ateliere meșteșugărești \n17-18 Atelier încondeiat ouă – Centrul de Cultură al Județului Bihor \n17-18 Pictură pe față \n17-17.45 \,\,Veniți Creștini la Rugăciune”- Asociația Grup Vocal Florile Bihorului – moment artistic oferit de prof. Anamaria Gal și Grupul Vocal “Moștenitorii Cântecului” \n18-19 Atelier de țesut – Centrul de Cultură al Județului Bihor \n18-19 Întâlnire cu iepurașul \n18-19 Modelare baloane \n20-21 Ateliere de creație cu nisip kinetic \n19 aprilie\, sâmbătă \nProgramul târgului: 12:00-21:00 \n12- 20 Atelier activități tâmplărie – ateliere meșteșugărești \n12-16 Picturi pe față \n12-16 Atelier Origami- Asociația Română de Qigong Falun Dafa România \n12-16 Pictură pe figurine de ipsos \n12-16 Jocuri interactive cu obiecte de lemn pentru copii și adulți \n12-13 Atelier încondeiat ouă – Centrul de Cultură al Județului Bihor \n13-14 Întâlnire cu Iepurașul \n13-14 Pictează Oul Gigantic \n15-16 Atelier încondeiat ouă – Centrul de Cultură al Județului Bihor \n16-17 Întâlnire cu Iepurașul \n16-17 Baby yoga \n16-19 Atelier împâslire a lânii – ateliere meșteșugărești \n16-19 Atelier de modelare a lutului – ateliere meșteșugărești \n16-20 Ateliere pictură pe sticlă și pânză \n16-20 Activități sportive – fotbal \n17-18 Atelier încondeiat ouă – Centrul de Cultură al Județului Bihor \n17-18 Spectacol teatru – Profu’ Trăsnit cu Șerban Borda \n17-18 Pictură pe față \n18-19 Atelier de țesut – Centrul de Cultură al Județului Bihor \n18-19 Întâlnire cu Iepurașul \n19-20 Ateliere de creație cu nisip kinetic \n19-20 Baloane modelate \n20-21 Atelier distractiv de colorat \n20 aprilie\, duminică \nProgramul târgului: 12:00- 21:00 \n12- 20 Atelier de tâmplărie – ateliere meșteșugărești \n12-16 Atelier Origami – Asociația Română de Qigong Falun Dafa România \n12-16 Pictură pe figurine de ipsos \n12-16 Jocuri interactive cu obiecte de lemn pentru copii și adulți \n12-16 Picturi pe față \n13-14 Întâlnire cu iepurașul \n13-14 Pictează Oul Gigantic \n14-15 Spectacol teatru – ȘȘȘȘT! Silent Comedy cu Șerban Borda \n16-17 Întâlnire cu Iepurașul \n16-17 Baby yoga \n16-19 Atelier împâslire a lânii – ateliere meșteșugărești \n16-19 Atelier de modelare a lutului – ateliere meșteșugărești \n16-20 Ateliere pictură pe sticlă și pânză \n16-20 Activități sportive – fotbal \n17-18 Atelier încondeiat ouă – Centrul de Cultură al Județului Bihor \n18-19 Întâlnire cu Iepurașul \n18-19 Atelier de țesut – Centrul de Cultură al Județului Bihor \n19-20 Ateliere de creație cu nisip kinetic \n19-20 Baloane modelate \n21 aprilie\, luni \nProgramul târgului: 12:00- 21:00 \n12- 20 Atelier de tâmplărie – ateliere meșteșugărești \n12-16 Picturi pe față \n12-13 Atelier de țesut – Centrul de Cultură al Județului Bihor \n12-16 Atelier Origami- Asociația Română de Qigong Falun Dafa România \n12-16 Pictură pe figurine de ipsos \n12-16 Jocuri interactive cu obiecte de lemn pentru copii și adulți \n13-14 Întâlnire cu Iepurașul \n13-14 Pictează Oul Gigantic \n15-16 Atelier de mărgelit – Centrul de Cultură al Județului Bihor \n16-17 Întâlnire cu Iepurașul \n16-17 Baby yoga \n16-19 Atelier împâslire a lânii – Ateliere meșteșugărești \n16-19 Atelier de modelare a lutului – Ateliere meșteșugărești \n16-20 Ateliere pictură pe sticlă și pânză \n17-18 Atelier încondeiat ouă – Centrul de Cultură al Județului Bihor \n18-19 Întâlnire cu Iepurașul \n19-20 Atelier distractiv – modelare nisip kinetic \n19-20 Baloane modelate
URL:https://oradea.ro/eveniment/targul-de-pasti-oradea-4/
LOCATION:Cetatea Oradea\, Piata Emanuil Gojdu 41\, Oradea\, Bihor\, 410067\, România
ATTACH;FMTTYPE=image/webp:https://oradea.ro/wp-content/uploads/2025/04/TPO-4.webp
END:VEVENT
BEGIN:VEVENT
DTSTART;TZID=Europe/Helsinki:20250415T170000
DTEND;TZID=Europe/Helsinki:20250417T190000
DTSTAMP:20260424T144613
CREATED:20250408T091403Z
LAST-MODIFIED:20250408T091809Z
UID:10000696-1744736400-1744916400@oradea.ro
SUMMARY:𝐀𝐭𝐞𝐥𝐢𝐞𝐫 𝐝𝐞 𝐭𝐞𝐫𝐚𝐩𝐢𝐞 𝐩𝐫𝐢𝐧 𝐚𝐫𝐭𝐚̆ „𝐄𝐧𝐞𝐫𝐠𝐲 𝐟𝐫𝐨𝐦 𝐂𝐨𝐥𝐨𝐫𝐬” cu artistul Ștefan Postol
DESCRIPTION:👉Muzeul Orașului Oradea (Cetatea Oradea\, Piața Emanuil Gojdu nr. 39-41) va găzdui în perioada 15-16-17 aprilie 2025\, în intervalul orar 17.00-19.00\, a𝐭𝐞𝐥𝐢𝐞𝐫ul 𝐝𝐞 𝐭𝐞𝐫𝐚𝐩𝐢𝐞 𝐩𝐫𝐢𝐧 𝐚𝐫𝐭𝐚̆ „𝐄𝐧𝐞𝐫𝐠𝐲 𝐟𝐫𝐨𝐦 𝐂𝐨𝐥𝐨𝐫𝐬 \n❗Proiectul muzeal „Energy from Colors” este adresat adulților și va fi susținut de către artistul plastic Ștefan Postol. \n✅este coordonat de muzeograful Cristina Pușcaș și bibliotecarul Cristian Negru;\n✅constă într-un ghidaj care se va desfășura în expoziția „Retrospectivă Ștefan Postol”\, unde artistul își are expuse lucrările și unde cei înscriși la ateliere vor lua parte la curs. \n🎫Taxa de participare la atelier este de 10 lei/persoană (maximum 10 persoane/atelier). \n📞Înscrierile se pot face la numărul de telefon 0771.741.331\, de marți până duminică\, între orele 10.00-18.00.
URL:https://oradea.ro/eveniment/%f0%9d%90%80%f0%9d%90%ad%f0%9d%90%9e%f0%9d%90%a5%f0%9d%90%a2%f0%9d%90%9e%f0%9d%90%ab-%f0%9d%90%9d%f0%9d%90%9e-%f0%9d%90%ad%f0%9d%90%9e%f0%9d%90%ab%f0%9d%90%9a%f0%9d%90%a9%f0%9d%90%a2%f0%9d%90%9e/
LOCATION:Muzeul Orașului Oradea\, Piața\, Aleea Emanuil Gojdu 39-41\, Oradea\, Bihor\, 410067\, România
CATEGORIES:Activitati,Ateliere copii,Cultural
END:VEVENT
END:VCALENDAR