BEGIN:VCALENDAR
VERSION:2.0
PRODID:-//Oradea.ro - ECPv6.15.12.2//NONSGML v1.0//EN
CALSCALE:GREGORIAN
METHOD:PUBLISH
X-WR-CALNAME:Oradea.ro
X-ORIGINAL-URL:https://oradea.ro
X-WR-CALDESC:Evenimente pentru Oradea.ro
REFRESH-INTERVAL;VALUE=DURATION:PT1H
X-Robots-Tag:noindex
X-PUBLISHED-TTL:PT1H
BEGIN:VTIMEZONE
TZID:Europe/Helsinki
BEGIN:DAYLIGHT
TZOFFSETFROM:+0200
TZOFFSETTO:+0300
TZNAME:EEST
DTSTART:20240331T010000
END:DAYLIGHT
BEGIN:STANDARD
TZOFFSETFROM:+0300
TZOFFSETTO:+0200
TZNAME:EET
DTSTART:20241027T010000
END:STANDARD
BEGIN:DAYLIGHT
TZOFFSETFROM:+0200
TZOFFSETTO:+0300
TZNAME:EEST
DTSTART:20250330T010000
END:DAYLIGHT
BEGIN:STANDARD
TZOFFSETFROM:+0300
TZOFFSETTO:+0200
TZNAME:EET
DTSTART:20251026T010000
END:STANDARD
BEGIN:DAYLIGHT
TZOFFSETFROM:+0200
TZOFFSETTO:+0300
TZNAME:EEST
DTSTART:20260329T010000
END:DAYLIGHT
BEGIN:STANDARD
TZOFFSETFROM:+0300
TZOFFSETTO:+0200
TZNAME:EET
DTSTART:20261025T010000
END:STANDARD
END:VTIMEZONE
BEGIN:VEVENT
DTSTART;TZID=Europe/Helsinki:20250423T080000
DTEND;TZID=Europe/Helsinki:20250427T170000
DTSTAMP:20260424T145322
CREATED:20250414T075016Z
LAST-MODIFIED:20250414T075537Z
UID:10000701-1745395200-1745773200@oradea.ro
SUMMARY:BASCHET | Turneul final al Campionatului Național U14 Masculin - ediția 2024/25 | Arena Antonio Alexe și CE Partenie Cosma
DESCRIPTION:Turneul final al Campionatului Național U14 Masculin – ediția 2024/25 se va desfășura la Oradea. Evenimentul va avea loc în perioada 23-27 Aprilie 2025 și reunește cele mai bune 12 echipe din România la generația 2011. \nJocurile vor avea loc la Arena Antonio Alexe și sala de sport de la Colegiul Economic Partenie Cosma. \nEchipele calificate au fost repartizate în două grupe de câte șase fiecare. Iată componența: \n\nGrupa A1 – Slam București\, CSM Oradea\, CSM Ploiești\, Laguna București\, CSM Târgu Jiu\, CSM Tîrgu Mureș\nGrupa A2 – Leii București\, Dan Dacian București\, Steaua București\, SCM Timișoara\, U-BT Cluj-Napoca\, LPS Focșani\n\nSe va juca pe sistemul fiecare cu fiecare în cadrul grupelor. Pe 23 și 24 Aprilie se dispută câte două etape\, iar în data de 25 Aprilie va avea loc ultima etapă. Ulterior se vor disputa jocurile din fazele superioare și cele din grupa valorică inferioară\, iar pe 27 Aprilie sunt programate jocurile pentru medalii și meciurile de clasament. \nÎn total se vor desfășura nu mai puțin de 48 meciuri în decurs de cinci zile de competiție. \nPROGRAMUL COMPLET\nEtapa 1 – Miercuri (23.04.2025) \nArena Antonio Alexe\n– ora 9:00\, CSM VSKM Targu Mures vs ABC Slam Bucuresti\n– ora 11:00\, CSM Targu Jiu vs CSM Oradea\n– ora 13:00\, CSM Petrolul Ploiesti vs ABC Laguna Bucuresti Negru \nPartenie Cosma\n– ora 9:00\, LPS Focsani vs ABC Leii Bucuresti\n– ora 11:00\, ACS U-BT Cluj-Napoca 1 vs ACS Dan Dacian Bucuresti\n– ora 13:00\, Steaua Bucuresti vs CS SCM winsed.swiss Timisoara\n_____\nEtapa 2 – Miercuri (23.04.2025) \nArena Antonio Alexe\n– ora 16:00\, ABC Leii Bucuresti vs ACS U-BT Cluj-Napoca 1\n– ora 18:00\, CS SCM winsed.swiss Timisoara vs LPS Focsani\n– ora 20:00\, CSM Oradea vs CSM Petrolul Ploiesti \nPartenie Cosma\n– ora 16:00\, ABC Slam Bucuresti vs CSM Targu Jiu\n– ora 18:00\, ACS Dan Dacian Bucuresti vs CSA Steaua Bucuresti\n– ora 20:00\, ABC Laguna Bucuresti Negru vs CSM VSKM Targu Mures\n_____\nEtapa 3 – Joi (24.04.2025) \nArena Antonio Alexe\n– ora 9:00\, LPS Focsani vs ACS Dan Dacian Bucuresti\n– ora 11:00\, CSM VSKM Targu Mures vs CSM Oradea\n– ora 13:00\, CSM Petrolul Ploiesti vs CSM Targu Jiu \nPartenie Cosma\n– ora 9:00\, CSA Steaua Bucuresti vs ACS U-BT Cluj-Napoca 1\n– ora 11:00\, CS SCM winsed.swiss Timisoara vs ABC Leii Bucuresti\n– ora 13:00\, ABC Laguna Bucuresti Negru vs ABC Slam Bucuresti \n_____\nEtapa 4 – Joi (24.04.2025) \nArena Antonio Alexe\n– ora 16:00\, ABC Leii Bucuresti vs CSA Steaua Bucuresti\n– ora 18:00\, CSM Oradea vs ABC Laguna Bucuresti Negru\n– ora 20:00\, ACS U-BT Cluj-Napoca 1 vs LPS Focsani \nPartenie Cosma\n– ora 16:00\, ACS Dan Dacian Bucuresti vs CS SCM winsed.swiss Timisoara\n– ora 18:00\, CSM Targu Jiu vs CSM VSKM Targu Mures\n– ora 20:0\, ABC Slam Bucuresti vs CSM Petrolul Ploiesti\n_____\nEtapa 5 – Vineri (25.04.2025) \nArena Antonio Alexe\n– ora 10:00\, ACS Dan Dacian Bucuresti vs ABC Leii Bucuresti\n– ora 12:00\, CSM Oradea vs ABC Slam Bucuresti\n– ora 14:00\, CS SCM winsed.swiss Timisoara vs ACS U-BT Cluj-Napoca 1 \nPartenie Cosma\n– ora 10:00\, ABC Laguna Bucuresti Negru vs CSM Targu Jiu\n– ora 12:00\, CSM VSKM Targu Mures vs CSM Petrolul Ploiesti\n– ora 14:00\, LPS Focsani vs CSA Steaua Bucuresti\n_____\nSemifinale\, Locurile 5/8\, Locurile 9/12 – Sâmbătă (26.04.2025) \nArena Antonio Alexe\n– ora 10:00\, Locul 3A1 vs Locul 4A2\n– ora 12:00\, Locul 1A1 vs Locul 2A2\n– ora 14:00\, Locul 1A2 vs Locul 2A1 \nPartenie Cosma\n– ora 10:00\, Locul 5A1 vs Locul 6A2\n– ora 12:00\, Locul 5A2 vs Locul 6A1\n– ora 14:00\, Locul 3A2 vs Locul 4A1\n_____ \nFinala\, jocuri de clasament – Duminică (27.04.2025) \nArena Antonio Alexe\n– ora 10:00\, Meciul pentru locul 5\n– ora 12:00\, Meciul pentru locul 3\n– ora 14:00\, Finala \nPartenie Cosma\n– ora 9:00\, Meciul pentru locul 11\n– ora 11:00\, Meciul pentru locul 9\n– ora 13:00\, Meciul pentru locul 7
URL:https://oradea.ro/eveniment/baschet-turneul-final-al-campionatului-national-u14-masculin-editia-2024-25-arena-antonio-alexe-si-ce-partenie-cosma/
LOCATION:Arena Antonio Alexe\, Calea Cazaban\, Nr. 3\, Oradea\, Bihor\, România
CATEGORIES:Sport
ATTACH;FMTTYPE=image/jpeg:https://oradea.ro/wp-content/uploads/2025/04/U14Oradea-1170x650-1.jpg
END:VEVENT
BEGIN:VEVENT
DTSTART;TZID=Europe/Helsinki:20250425T170000
DTEND;TZID=Europe/Helsinki:20250425T190000
DTSTAMP:20260424T145322
CREATED:20250425T065032Z
LAST-MODIFIED:20250425T065032Z
UID:10000702-1745600400-1745607600@oradea.ro
SUMMARY:Lansarea volumului  - "Rîbnița însângerată. Mărturii din acele zile. Cu o corespondență între supraviețuitori"
DESCRIPTION:Oradea Heritage și Editura Ratio et Revelatio vă invită vineri\, 25 aprilie 2025\, la ora 17.00\, la Muzeul Istoriei Evreilor din Oradea – Sinagoga Aachvas Rheim la lansarea volumului Rîbnița însângerată. Mărturii din acele zile. Cu o corespondență între supraviețuitori\, Editori: Mihaela Gligor și Ofelia Thirer (colecția „Authentica”\, coordonată de Raluca Lazarovici Vereș\, Editura Ratio et Revelatio\, Oradea\, 2024). \nAcest volum de maximă importanță pentru istoriografia românească descrie\, prin documente de arhivă și mărturii inedite\, un eveniment unic prin cruzimea lui: masacrul din lagărul de la Rîbnița (Transnistria). Matei Gall\, Pinhas  Fischbach și Isac Valter au fost singurii trei supraviețuitori. Volumul de față conține – în premieră absolută – mărturiile a doi dintre ei: Pinhas Fischbach și Isac Valter. Povestea cutremurătoare e întregită de o corespondență fascinantă\, purtată între Matei Gall\, Pinhas Fischbach și Ihiel Benditer (fost deținut în lagărul de la Vapniarca). Documentele de arhivă (aflate în păstrare la Arhivele Naționale ale României / Serviciul Arhive Naționale Istorice Centrale și United States Holocaust Memorial Museum Washington\, D.C.) și celelalte materiale incluse în Anexe aduc alte informații prețioase. Volumul beneficiază  de o Introducere amplă\, semnată de Paul A. Shapiro și poartă Prefața lui Radu Ioanid. \nLa eveniment vor lua cuvântul: \nMihaela Gligor – cercetător principal\, Institutul de Istorie „George Barițiu” al Academiei Române filiala Cluj-Napoca \nOfelia Thirer – Israel \nRobert Shorr – director JCC Oradea\, director Departament Cultură & Media FCER-CM \nRobert Jehoshua Rezmuves – oficiant de cult\, Sinagoga Mare Ortodoxă Oradea \nCristina Pușcaș – istoric\, Oradea \nRaluca Lazarovici Vereș – cercetător independent\, director editorial cofondator Editura Ratio et Revelatio\, Oradea. \n„Volumul de față conține noi detalii cutremurătoare despre asasinarea de către trupe SS în complicitate cu gardieni români\, în martie 1944\, în închisoarea Rîbnița din Transnistria\, a zeci de comuniști români evrei.” (Radu Ioanid) \n„Persoanele ale căror soartă\, mărturii și corespondență postbelică constituie subiectul principal al acestui volum au împărtășit o experiență zdrobitoare. Matei Gall\, Pinhas Fischbach și Isac Valter au fost singurii trei supraviețuitori ai masacrului a 54 de deținuți evrei care a avut loc în închisoarea românească de la Rîbnița în noaptea de 19-20 martie 1944.” (Paul A. Shapiro) \n„Prezenta ediție are un scop documentar. Intenția ei este una strict științifică și anume aceea de a completa – prin documente de primă mână – istoria unui eveniment unic prin cruzimea lui.” (Mihaela Gligor și Ofelia Thirer) \nIntrarea este liberă.
URL:https://oradea.ro/eveniment/lansarea-volumului-ribnita-insangerata-marturii-din-acele-zile-cu-o-corespondenta-intre-supravietuitori/
LOCATION:Sinagoga Aachavas Rheim\, strada Primariei\, 25\, Oradea\, Romania
CATEGORIES:Lansare carte,Cultura,Cultural
END:VEVENT
END:VCALENDAR