BEGIN:VCALENDAR
VERSION:2.0
PRODID:-//Oradea.ro - ECPv6.15.12.2//NONSGML v1.0//EN
CALSCALE:GREGORIAN
METHOD:PUBLISH
X-WR-CALNAME:Oradea.ro
X-ORIGINAL-URL:https://oradea.ro
X-WR-CALDESC:Evenimente pentru Oradea.ro
REFRESH-INTERVAL;VALUE=DURATION:PT1H
X-Robots-Tag:noindex
X-PUBLISHED-TTL:PT1H
BEGIN:VTIMEZONE
TZID:Europe/Helsinki
BEGIN:DAYLIGHT
TZOFFSETFROM:+0200
TZOFFSETTO:+0300
TZNAME:EEST
DTSTART:20240331T010000
END:DAYLIGHT
BEGIN:STANDARD
TZOFFSETFROM:+0300
TZOFFSETTO:+0200
TZNAME:EET
DTSTART:20241027T010000
END:STANDARD
BEGIN:DAYLIGHT
TZOFFSETFROM:+0200
TZOFFSETTO:+0300
TZNAME:EEST
DTSTART:20250330T010000
END:DAYLIGHT
BEGIN:STANDARD
TZOFFSETFROM:+0300
TZOFFSETTO:+0200
TZNAME:EET
DTSTART:20251026T010000
END:STANDARD
BEGIN:DAYLIGHT
TZOFFSETFROM:+0200
TZOFFSETTO:+0300
TZNAME:EEST
DTSTART:20260329T010000
END:DAYLIGHT
BEGIN:STANDARD
TZOFFSETFROM:+0300
TZOFFSETTO:+0200
TZNAME:EET
DTSTART:20261025T010000
END:STANDARD
END:VTIMEZONE
BEGIN:VEVENT
DTSTART;TZID=Europe/Helsinki:20250509T160000
DTEND;TZID=Europe/Helsinki:20250509T180000
DTSTAMP:20260424T163824
CREATED:20250507T102208Z
LAST-MODIFIED:20250507T103839Z
UID:10000708-1746806400-1746813600@oradea.ro
SUMMARY:Lansare de carte -  Sinagoga AACHAVAS RHEIM
DESCRIPTION:La 30 de ani de la prima publicare în limba română\, Editura Hasefer aduce în atenția cititorilor două ediții noi ale cărților ”Evreii din Oradea” și ”Decalog însângerat” scrise de Téreza Mózes. \nEvenimentul de lansare a celor două cărți va avea loc la Sinagoga AACHAVAS RHEIM vineri\, 9 mai\, ora 16.00. \nIntrarea este liberă! \nCartea ”Evreii din Oradea” face parte din bogata tradiție a monografiilor comunităților evreiești din România\, publicate de-a lungul ultimelor trei decenii de Editura Hasefer și rămâne una dintre cărțile de referință despre istoria evreilor din țară. \nNăscută în noiembrie 1919\, Téreza Mózes a învățat la Oradea și a suferit alături de ceilalți evrei din oraș\, atât sub administrația românească\, cât și sub cea maghiară. A fost nevoită să renunțe la studiile și pasiunea sa pentru etnografie\, apoi a urmat ghetoul\, alături de ceilalți 30.000 de evrei orădeni. A fost deportată și a supraviețuit lagărelor Auschwitz\, Riga Spilva\, Kaiserwald\, Stutthoff\, Gutau. Memoriile acelei perioade cumplite se găsesc în volumul Decalog însângerat.După război și-a reluat studiile\, încheiate cu o licenţa în istoria artei\, etnografie şi limba franceză şi cu o teză de doctorat despre portul popular din nord-vestul Transilvaniei.Etnograf\, critic de artă și muzeograf\, Téreza Mózes a avut o contribuție remarcabilă în cercetarea etnografică\, fiind unul dintre cei mai importanți specialiști în portul popular românesc. Studiile și cărțile sale contribuie încă la o mai bună cunoaștere a vieții evreiești din România și a spațiului cultural românesc în general.Cartea ”Evreii din Oradea” face parte din bogata tradiție a monografiilor comunităților evreiești din România\, publicate de-a lungul ultimelor trei decenii de Editura Hasefer și rămâne una dintre cărțile de referință despre istoria evreilor din țară.
URL:https://oradea.ro/eveniment/lansare-de-carte-sinagoga-aachavas-rheim/
LOCATION:Sinagoga Aachavas Rheim\, strada Primariei\, 25\, Oradea\, Romania
CATEGORIES:Lansare carte,Cultura,Cultural
END:VEVENT
END:VCALENDAR