BEGIN:VCALENDAR
VERSION:2.0
PRODID:-//Oradea.ro - ECPv6.15.12.2//NONSGML v1.0//EN
CALSCALE:GREGORIAN
METHOD:PUBLISH
X-WR-CALNAME:Oradea.ro
X-ORIGINAL-URL:https://oradea.ro
X-WR-CALDESC:Evenimente pentru Oradea.ro
REFRESH-INTERVAL;VALUE=DURATION:PT1H
X-Robots-Tag:noindex
X-PUBLISHED-TTL:PT1H
BEGIN:VTIMEZONE
TZID:Europe/Helsinki
BEGIN:DAYLIGHT
TZOFFSETFROM:+0200
TZOFFSETTO:+0300
TZNAME:EEST
DTSTART:20230326T010000
END:DAYLIGHT
BEGIN:STANDARD
TZOFFSETFROM:+0300
TZOFFSETTO:+0200
TZNAME:EET
DTSTART:20231029T010000
END:STANDARD
BEGIN:DAYLIGHT
TZOFFSETFROM:+0200
TZOFFSETTO:+0300
TZNAME:EEST
DTSTART:20240331T010000
END:DAYLIGHT
BEGIN:STANDARD
TZOFFSETFROM:+0300
TZOFFSETTO:+0200
TZNAME:EET
DTSTART:20241027T010000
END:STANDARD
BEGIN:DAYLIGHT
TZOFFSETFROM:+0200
TZOFFSETTO:+0300
TZNAME:EEST
DTSTART:20250330T010000
END:DAYLIGHT
BEGIN:STANDARD
TZOFFSETFROM:+0300
TZOFFSETTO:+0200
TZNAME:EET
DTSTART:20251026T010000
END:STANDARD
END:VTIMEZONE
BEGIN:VEVENT
DTSTART;TZID=Europe/Helsinki:20241115T190000
DTEND;TZID=Europe/Helsinki:20241117T220000
DTSTAMP:20260421T082021
CREATED:20240306T143808Z
LAST-MODIFIED:20240306T143808Z
UID:10000382-1731697200-1731880800@oradea.ro
SUMMARY:ORA Jazz Festival
DESCRIPTION:Trei elemente fac din ORA Jazz o experiență de festival unică: muzica\, oamenii și locațiile concertelor. Vino să ne bucurăm împreună de energia creativă și originalitatea muzicienilor în locații iconice ale orașului.
URL:https://oradea.ro/eveniment/ora-jazz-festival/
LOCATION:Sinagoga Neologă Sion\, Independenței 22\, Oradea\, Bihor\, 410065\, România
CATEGORIES:Cultural,Festival,Muzica
ATTACH;FMTTYPE=image/jpeg:https://oradea.ro/wp-content/uploads/2024/03/403759918_833661458764855_8721735149385283204_n.jpg
ORGANIZER;CN="Asocia%C8%9Bia Cultural%C4%83 Mono":MAILTO:orajazzfestival@gmail.com
END:VEVENT
END:VCALENDAR