BEGIN:VCALENDAR
VERSION:2.0
PRODID:-//Oradea.ro - ECPv6.15.12.2//NONSGML v1.0//EN
CALSCALE:GREGORIAN
METHOD:PUBLISH
X-WR-CALNAME:Oradea.ro
X-ORIGINAL-URL:https://oradea.ro
X-WR-CALDESC:Evenimente pentru Oradea.ro
REFRESH-INTERVAL;VALUE=DURATION:PT1H
X-Robots-Tag:noindex
X-PUBLISHED-TTL:PT1H
BEGIN:VTIMEZONE
TZID:Europe/Helsinki
BEGIN:DAYLIGHT
TZOFFSETFROM:+0200
TZOFFSETTO:+0300
TZNAME:EEST
DTSTART:20240331T010000
END:DAYLIGHT
BEGIN:STANDARD
TZOFFSETFROM:+0300
TZOFFSETTO:+0200
TZNAME:EET
DTSTART:20241027T010000
END:STANDARD
BEGIN:DAYLIGHT
TZOFFSETFROM:+0200
TZOFFSETTO:+0300
TZNAME:EEST
DTSTART:20250330T010000
END:DAYLIGHT
BEGIN:STANDARD
TZOFFSETFROM:+0300
TZOFFSETTO:+0200
TZNAME:EET
DTSTART:20251026T010000
END:STANDARD
BEGIN:DAYLIGHT
TZOFFSETFROM:+0200
TZOFFSETTO:+0300
TZNAME:EEST
DTSTART:20260329T010000
END:DAYLIGHT
BEGIN:STANDARD
TZOFFSETFROM:+0300
TZOFFSETTO:+0200
TZNAME:EET
DTSTART:20261025T010000
END:STANDARD
END:VTIMEZONE
BEGIN:VEVENT
DTSTART;TZID=Europe/Helsinki:20251121T190000
DTEND;TZID=Europe/Helsinki:20251121T210000
DTSTAMP:20260421T020910
CREATED:20251117T132712Z
LAST-MODIFIED:20251117T132739Z
UID:10000814-1763751600-1763758800@oradea.ro
SUMMARY:BASCHET | Liga Națională Masculin - ediția 2025/26\, Etapa 10 | CSM CSU Raiffeisen Oradea vs SCM Timișoara | Arena Antonio Alexe
DESCRIPTION:CSM CSU Raiffeisen Oradea vs SCM Timișoara\n– Liga Națională de baschet masculin – ediția 2025/26\, Etapa 10\n– Arena Antonio Alexe\, Oradea\n– Vineri (21.11.2025)\, ora 19:00\n– Bilete AICI\, abonamentele sunt valabile\n– Transmisiune în direct pe DigiSport și PrimaSport (TV)\, online pe FRB TV (YouTube).
URL:https://oradea.ro/eveniment/baschet-liga-nationala-masculin-editia-2025-26-etapa-10-csm-csu-raiffeisen-oradea-vs-scm-timisoara-arena-antonio-alexe/
LOCATION:Arena Antonio Alexe\, Calea Cazaban\, Nr. 3\, Oradea\, Bihor\, România
CATEGORIES:Sport
ATTACH;FMTTYPE=image/jpeg:https://oradea.ro/wp-content/uploads/2025/11/21.11.2025.jpg
END:VEVENT
BEGIN:VEVENT
DTSTART;TZID=Europe/Helsinki:20251119T190000
DTEND;TZID=Europe/Helsinki:20251119T210000
DTSTAMP:20260421T020910
CREATED:20251028T083347Z
LAST-MODIFIED:20251028T083347Z
UID:10000807-1763578800-1763586000@oradea.ro
SUMMARY:BASCHET | FIBA Europe Cup 2025/26\, Grupa C\, Etapa 6 | CSM CSU Raiffeisen Oradea vs Aliaga Petkimspor | Oradea Arena
DESCRIPTION:CSM CSU Raiffeisen Oradea vs Aliaga Petkimspor\n– FIBA Europe Cup – ediția 2025/26\, Grupa C\, Etapa 6\n– Miercuri (19.11.2025)\n– Oradea Arena\n– Transmisiune în direct: DigiSport (TV)\, FIBA BAsketball (YouTube)\n– Bilete AICI\, abonamentele sunt valabile
URL:https://oradea.ro/eveniment/baschet-fiba-europe-cup-2025-26-grupa-c-etapa-6-csm-csu-raiffeisen-oradea-vs-aliaga-petkimspor-oradea-arena/
LOCATION:Oradea Arena
CATEGORIES:Sport
ATTACH;FMTTYPE=image/jpeg:https://oradea.ro/wp-content/uploads/2024/03/CSM-Oradea.jpg
END:VEVENT
BEGIN:VEVENT
DTSTART;TZID=Europe/Helsinki:20251118T193000
DTEND;TZID=Europe/Helsinki:20251118T210000
DTSTAMP:20260421T020910
CREATED:20251029T092102Z
LAST-MODIFIED:20251029T100136Z
UID:10000809-1763494200-1763499600@oradea.ro
SUMMARY:POLO PE APĂ | Champions League 2025/26\, Grupa C\, Etapa 4 | CSM Oradea vs FTC Telekom Budapesta | Bazinul olimpic Ioan Alexandrescu
DESCRIPTION:CSM Oradea vs FTC Telekom Budapesta\n– Water Polo Champions League\, Grupa C\, Etapa 4\n– Marți (18.11.2025)\, ora 19:30\n– Click AICI pentru bilete \nCost:\n– 20 Lei/bilet pentru adulți\n– 5 Lei/bilet pentru elevi
URL:https://oradea.ro/eveniment/polo-pe-apa-champions-league-2025-26-grupa-c-etapa-4-csm-oradea-vs-ftc-telekom-budapesta-bazinul-olimpic-ioan-alexandrescu/
LOCATION:Bazinul Olimpic Ioan Alexandrescu\, Bazinul Olimpic Ioan Alexandrescu\, Al. Strandului\, 5\, Oradea\, Bihor\, România
CATEGORIES:Sport
ATTACH;FMTTYPE=image/jpeg:https://oradea.ro/wp-content/uploads/2025/10/vs-FTC_eventbook.jpg
END:VEVENT
BEGIN:VEVENT
DTSTART;TZID=Europe/Helsinki:20251115T190000
DTEND;TZID=Europe/Helsinki:20251115T210000
DTSTAMP:20260421T020910
CREATED:20251104T090346Z
LAST-MODIFIED:20251104T090346Z
UID:10000810-1763233200-1763240400@oradea.ro
SUMMARY:BASCHET | Liga Națională Masculin 2025/26\, Etapa 9 | CSM CSU Raiffeisen Oradea vs SCM Universitatea Craiova | Arena Antonio Alexe
DESCRIPTION:CSM CSU Raiffeisen Oradea vs SCM Universitatea Craiova\n– Liga Națională de baschet masculin – ediția 2025/26\, Etapa 9\n– Sâmbătă (15.11.2025)\, ora 19:00\n– Arena Antonio Alexe\, Oradea\n– Transmisiune în direct: DigiSport (TV)\, FRB TV (YouTube)\n– Bilete pe Eventbook.ro\, abonamentele sunt valabile
URL:https://oradea.ro/eveniment/baschet-liga-nationala-masculin-2025-26-etapa-9-csm-csu-raiffeisen-oradea-vs-scm-universitatea-craiova-arena-antonio-alexe/
LOCATION:Arena Antonio Alexe\, Calea Cazaban\, Nr. 3\, Oradea\, Bihor\, România
CATEGORIES:Sport
ATTACH;FMTTYPE=image/jpeg:https://oradea.ro/wp-content/uploads/2024/03/CSM-Oradea.jpg
END:VEVENT
BEGIN:VEVENT
DTSTART;TZID=Europe/Helsinki:20251114T180000
DTEND;TZID=Europe/Helsinki:20251114T180000
DTSTAMP:20260421T020910
CREATED:20251104T094708Z
LAST-MODIFIED:20251104T094738Z
UID:10000812-1763143200-1763143200@oradea.ro
SUMMARY:HANDBAL | Divizia A Masculin 2025/26\, Etapa 8 | CSM Oradea vs ACS Dinamyc Zalău | Arena Antonio Alexe
DESCRIPTION:CSM Oradea vs ACS Dinamyc Zalău\n– Divizia A handbal masculin – ediția 2025/26\, Etapa 8\n– Arena Antonio Alexe\, Oradea\n– Vineri (14.11)\, ora 18:00\n– Intrare liberă
URL:https://oradea.ro/eveniment/handbal-divizia-a-masculin-2025-26-etapa-8-csm-oradea-vs-acs-dinamyc-zalau-arena-antonio-alexe/
LOCATION:Arena Antonio Alexe\, Calea Cazaban\, Nr. 3\, Oradea\, Bihor\, România
CATEGORIES:Sport
ATTACH;FMTTYPE=image/png:https://oradea.ro/wp-content/uploads/2023/09/CSMOradea.png
END:VEVENT
BEGIN:VEVENT
DTSTART;TZID=Europe/Helsinki:20251112T190000
DTEND;TZID=Europe/Helsinki:20251112T210000
DTSTAMP:20260421T020910
CREATED:20251028T083128Z
LAST-MODIFIED:20251028T083128Z
UID:10000806-1762974000-1762981200@oradea.ro
SUMMARY:BASCHET | FIBA Europe Cup 2025/26\, Grupa C\, Etapa 5 | CSM CSU Raiffeisen Oradea vs CSM Corona Brașov | Oradea Arena
DESCRIPTION:CSM CSU Raiffeisen Oradea vs CSM Corona Brașov\n– FIBA Europe Cup – ediția 2025/26\, Grupa C\, Etapa 5\n– Miercuri (12.11.2025)\, ora 19:00\n– Oradea Arena\n– Transmisiune în direct: FIBA BAsketball (YouTube)\n– Bilete AICI\, abonamentele sunt valabile
URL:https://oradea.ro/eveniment/baschet-fiba-europe-cup-2025-26-grupa-c-etapa-5-csm-csu-raiffeisen-oradea-vs-csm-corona-brasov-oradea-arena/
LOCATION:Oradea Arena
CATEGORIES:Sport
ATTACH;FMTTYPE=image/jpeg:https://oradea.ro/wp-content/uploads/2024/03/CSM-Oradea.jpg
END:VEVENT
BEGIN:VEVENT
DTSTART;TZID=Europe/Helsinki:20251111T193000
DTEND;TZID=Europe/Helsinki:20251111T210000
DTSTAMP:20260421T020910
CREATED:20251029T091829Z
LAST-MODIFIED:20251029T091829Z
UID:10000808-1762889400-1762894800@oradea.ro
SUMMARY:POLO PE APĂ | Champions League 2025/26\, Grupa C\, Etapa 3 | CSM Oradea vs AN Brescia | Bazinul olimpic Ioan Alexandrescu
DESCRIPTION:CSM Oradea vs AN Brescia\n– Water Polo Champions League\, Grupa C\, Etapa 3\n– Marți (11.11.2025)\, ora 19:30\n– Click AICI pentru bilete \nCost:\n– 20 Lei/bilet pentru adulți\n– 5 Lei/bilet pentru elevi
URL:https://oradea.ro/eveniment/polo-pe-apa-champions-league-2025-26-grupa-c-etapa-3-csm-oradea-vs-an-brescia-bazinul-olimpic-ioan-alexandrescu/
LOCATION:Bazinul Olimpic Ioan Alexandrescu\, Bazinul Olimpic Ioan Alexandrescu\, Al. Strandului\, 5\, Oradea\, Bihor\, România
CATEGORIES:Sport
ATTACH;FMTTYPE=image/jpeg:https://oradea.ro/wp-content/uploads/2025/10/vs-Brescia_eventbook.jpg
END:VEVENT
BEGIN:VEVENT
DTSTART;TZID=Europe/Helsinki:20251108T180000
DTEND;TZID=Europe/Helsinki:20251108T200000
DTSTAMP:20260421T020910
CREATED:20251028T082745Z
LAST-MODIFIED:20251028T082745Z
UID:10000805-1762624800-1762632000@oradea.ro
SUMMARY:BASCHET | Liga Națională 2025/26\, Etapa 8\, CSM CSU Raiffeisen Oradea vs Rapid București | Oradea Arena
DESCRIPTION:CSM CSU Raiffeisen Oradea vs Rapid București\n– Liga Națională de baschet masculin – ediția 2025/26\, Etapa 8\n– Sâmbătă (08.11.2025)\, ora 18:00\n– Oradea Arena\n– Transmisiune în direct: FRB TV (YouTube)\n– Bilete AICI\, abonamentele sunt valabile
URL:https://oradea.ro/eveniment/baschet-liga-nationala-2025-26-etapa-8-csm-csu-raiffeisen-oradea-vs-rapid-bucuresti-oradea-arena/
LOCATION:Oradea Arena
CATEGORIES:Sport
ATTACH;FMTTYPE=image/jpeg:https://oradea.ro/wp-content/uploads/2024/03/CSM-Oradea.jpg
END:VEVENT
BEGIN:VEVENT
DTSTART;TZID=Europe/Helsinki:20251108T173000
DTEND;TZID=Europe/Helsinki:20251108T190000
DTSTAMP:20260421T020910
CREATED:20251104T094505Z
LAST-MODIFIED:20251104T094505Z
UID:10000811-1762623000-1762628400@oradea.ro
SUMMARY:HANDBAL | Divizia A Masculin 2025/26\, Etapa 7 | CSM Oradea vs CSU Constantin Brâncuși Târgu Jiu | Arena Antonio Alexe
DESCRIPTION:CSM Oradea vs CSU Constantin Brâncuși Târgu Jiu\n– Divizia A handbal masculin – ediția 2025/26\, Etapa 7\n– Arena Antonio Alexe\, Oradea\n– Sâmbătă (08.11)\, ora 17:30\n– Intrare liberă
URL:https://oradea.ro/eveniment/handbal-divizia-a-masculin-2025-26-etapa-7-csm-oradea-vs-csu-constantin-brancusi-targu-jiu-arena-antonio-alexe/
LOCATION:Arena Antonio Alexe\, Calea Cazaban\, Nr. 3\, Oradea\, Bihor\, România
CATEGORIES:Sport
ATTACH;FMTTYPE=image/png:https://oradea.ro/wp-content/uploads/2023/09/CSMOradea.png
END:VEVENT
BEGIN:VEVENT
DTSTART;TZID=Europe/Helsinki:20251101T120000
DTEND;TZID=Europe/Helsinki:20251101T130000
DTSTAMP:20260421T020910
CREATED:20251018T123139Z
LAST-MODIFIED:20251018T123139Z
UID:10000803-1761998400-1762002000@oradea.ro
SUMMARY:POLO PE APĂ | Superliga Națională 2025/26\, Etapa 5 | CSM Oradea vs Rapid București | Bazinul Olimpic Ioan Alexandrescu
DESCRIPTION:CSM Oradea vs Rapid București\n– Superliga Națională de polo pe apă – ediția 2025/26\, Etapa 5\n– Bazinul olimpic Ioan Alexandrescu\, Oradea\n– Sâmbătă (01.11.2025)\, ora 12:00\n– Intrare liberă
URL:https://oradea.ro/eveniment/polo-pe-apa-superliga-nationala-2025-26-etapa-5-csm-oradea-vs-rapid-bucuresti-bazinul-olimpic-ioan-alexandrescu/
LOCATION:Bazinul Olimpic Ioan Alexandrescu\, Bazinul Olimpic Ioan Alexandrescu\, Al. Strandului\, 5\, Oradea\, Bihor\, România
CATEGORIES:Sport
ATTACH;FMTTYPE=image/jpeg:https://oradea.ro/wp-content/uploads/2024/09/CSMOPolo.jpg
END:VEVENT
BEGIN:VEVENT
DTSTART;TZID=Europe/Helsinki:20251028T213000
DTEND;TZID=Europe/Helsinki:20251028T230000
DTSTAMP:20260421T020910
CREATED:20251004T075132Z
LAST-MODIFIED:20251004T075132Z
UID:10000801-1761687000-1761692400@oradea.ro
SUMMARY:POLO PE APĂ | Champions League 2025/26\, Grupa C\, Etapa 2 | CSM Oradea vs VPK Primorac Kotor | Bazinul Olimpic Ioan Alexandrescu
DESCRIPTION:CSM Oradea vs VPK Primorac Kotor\n– Waterpolo Champions League – ediția 2025/26\, Grupa C\, Etapa 2\n– Marți (28.10.2025)\, ora 21:30\n– Bazinul Olimpic Ioan Alexandrescu\, Oradea\n– Bilete online: 5 lei elevi\, 20 lei adulți
URL:https://oradea.ro/eveniment/polo-pe-apa-champions-league-2025-26-grupa-c-etapa-2-csm-oradea-vs-vpk-primorac-kotor-bazinul-olimpic-ioan-alexandrescu/
LOCATION:Bazinul Olimpic Ioan Alexandrescu\, Bazinul Olimpic Ioan Alexandrescu\, Al. Strandului\, 5\, Oradea\, Bihor\, România
CATEGORIES:Sport
ATTACH;FMTTYPE=image/jpeg:https://oradea.ro/wp-content/uploads/2025/10/AfisKotor.jpg
END:VEVENT
BEGIN:VEVENT
DTSTART;TZID=Europe/Helsinki:20251025T180000
DTEND;TZID=Europe/Helsinki:20251025T200000
DTSTAMP:20260421T020910
CREATED:20251018T122746Z
LAST-MODIFIED:20251018T122807Z
UID:10000802-1761415200-1761422400@oradea.ro
SUMMARY:BASCHET | Liga Națională 2025/26\, Etapa 6 | CSM CSU Raiffeisen Oradea vs CSM Corona Brașiv | Oradea Arena
DESCRIPTION:CSM CSU Raiffeisen Oradea vs CSM Corona Brașov\n– Liga Națională de baschet masculin 2025/26\, Etapa 6\n– Sâmbătă (25.10.2025)\, ora 18:00\n– Oradea Arena\, Oradea\n– FRB TV (YouTube)\n– Bilete: 25/20/5 lei – online pe Eventbook.ro\n– Abonamente valabile
URL:https://oradea.ro/eveniment/baschet-liga-nationala-2025-26-etapa-6-csm-csu-raiffeisen-oradea-vs-csm-corona-brasiv-oradea-arena/
LOCATION:Oradea Arena
CATEGORIES:Sport
ATTACH;FMTTYPE=image/png:https://oradea.ro/wp-content/uploads/2025/10/25.10.2025-Brasov.png
END:VEVENT
BEGIN:VEVENT
DTSTART;TZID=Europe/Helsinki:20251015T190000
DTEND;TZID=Europe/Helsinki:20251015T210000
DTSTAMP:20260421T020910
CREATED:20251004T073030Z
LAST-MODIFIED:20251004T073030Z
UID:10000796-1760554800-1760562000@oradea.ro
SUMMARY:BASCHET | FIBA Europe Cup 2025/25\, Etapa 1 | CSM CSU Raiffeisen Oradea vs Petrolina AEK Larnaca
DESCRIPTION:CSM CSU Raiffeisen Oradea vs Petrolina AEK Larnaca\n– FIBA Europe Cup\, Grupa C\, Etapa 1\n– Oradea Arena\n– Miercuri (15.10.2025)\, ora 19:00
URL:https://oradea.ro/eveniment/baschet-fiba-europe-cup-2025-25-etapa-1-csm-csu-raiffeisen-oradea-vs-petrolina-aek-larnaca/
LOCATION:Oradea Arena
CATEGORIES:Sport
ATTACH;FMTTYPE=image/png:https://oradea.ro/wp-content/uploads/2025/10/15.10.2025-Larnaca.png
END:VEVENT
BEGIN:VEVENT
DTSTART;TZID=Europe/Helsinki:20251012T103000
DTEND;TZID=Europe/Helsinki:20251012T120000
DTSTAMP:20260421T020910
CREATED:20251004T074659Z
LAST-MODIFIED:20251004T074836Z
UID:10000800-1760265000-1760270400@oradea.ro
SUMMARY:POLO PE APĂ | Superliga Națională 2025/26\, Etapa 2 | CSM Oradea vs Sportul Studențesc | Bazinul Olimpic Ioan Alexandrescu
DESCRIPTION:CSM Oradea vs Sportul Studențesc\n– Superliga Națională de polo pe apă – ediția 2025/26\, Etapa 2\n– Duminică (12.10)\, ora 10:30\n– Bazinul Olimpic Ioan Alexandrescu\, Oradea\n– Intrare liberă
URL:https://oradea.ro/eveniment/polo-pe-apa-superliga-nationala-2025-26-etapa-2-csm-oradea-vs-sportul-studentesc-bazinul-olimpic-ioan-alexandrescu/
LOCATION:Bazinul Olimpic Ioan Alexandrescu\, Bazinul Olimpic Ioan Alexandrescu\, Al. Strandului\, 5\, Oradea\, Bihor\, România
CATEGORIES:Sport
ATTACH;FMTTYPE=image/png:https://oradea.ro/wp-content/uploads/2023/09/CSMOradea.png
END:VEVENT
BEGIN:VEVENT
DTSTART;TZID=Europe/Helsinki:20251011T190000
DTEND;TZID=Europe/Helsinki:20251011T210000
DTSTAMP:20260421T020910
CREATED:20251004T073701Z
LAST-MODIFIED:20251004T073701Z
UID:10000798-1760209200-1760216400@oradea.ro
SUMMARY:POLO PE APĂ | Superliga Națională 2025/26\, Etapa 3 | CSM Oradea vs Dinamo București | Bazinul Olimpic Ioan Alexandrescu
DESCRIPTION:CSM Oradea vs Dinamo București\n– Superliga Națională de polo pe apă – ediția 2025/26\, Etapa 3\n– Bazinul Olimpic Ioan Alexandrescu\, Oradea\n– Intrare liberă
URL:https://oradea.ro/eveniment/polo-pe-apa-superliga-nationala-2025-26-etapa-3-csm-oradea-vs-dinamo-bucuresti-bazinul-olimpic-ioan-alexandrescu/
LOCATION:Bazinul Olimpic Ioan Alexandrescu\, Bazinul Olimpic Ioan Alexandrescu\, Al. Strandului\, 5\, Oradea\, Bihor\, România
CATEGORIES:Sport
ATTACH;FMTTYPE=image/jpeg:https://oradea.ro/wp-content/uploads/2024/09/CSMOPolo.jpg
END:VEVENT
BEGIN:VEVENT
DTSTART;TZID=Europe/Helsinki:20251011T190000
DTEND;TZID=Europe/Helsinki:20251011T210000
DTSTAMP:20260421T020910
CREATED:20251004T072752Z
LAST-MODIFIED:20251004T072752Z
UID:10000795-1760209200-1760216400@oradea.ro
SUMMARY:BASCHET | Liga Națională Masculin 2025/26\, Etapa 4 | CSM CSU Raiffeisen Oradea vs CS Vâlcea 1924 | Oradea Arena
DESCRIPTION:CSM CSU Raiffeisen Oradea vs CS Vâlcea 1924\n– Liga Națională de baschet masculin – ediția 2025/26\, Etapa 4\n– Oradea Arena\n– Sâmbătă (11.10.2025)\, ora 19:00
URL:https://oradea.ro/eveniment/baschet-liga-nationala-masculin-2025-26-etapa-4-csm-csu-raiffeisen-oradea-vs-cs-valcea-1924-oradea-arena/
LOCATION:Oradea Arena
CATEGORIES:Sport
ATTACH;FMTTYPE=image/png:https://oradea.ro/wp-content/uploads/2025/10/11.10.2025-Valcea.png
END:VEVENT
BEGIN:VEVENT
DTSTART;TZID=Europe/Helsinki:20251011T170000
DTEND;TZID=Europe/Helsinki:20251011T170000
DTSTAMP:20260421T020910
CREATED:20251004T074050Z
LAST-MODIFIED:20251004T074050Z
UID:10000799-1760202000-1760202000@oradea.ro
SUMMARY:HANDBAL | Divizia A Masculin 2025/26\, Etapa 5 | CSM Oradea vs SCM Politehnica Timișoara Div. A | Arena Antonio Alexe
DESCRIPTION:CSM Oradea vs SCM Politehnica Timișoara Div. A\n– Divizia A Handbal Masculin 2025/26\, Etapa 5\n– Sâmbătă (11.10.2025)\, ora 17:00\n– Arena Antonio Alexe\, Oradea\n– Intrare liberă
URL:https://oradea.ro/eveniment/handbal-divizia-a-masculin-2025-26-etapa-5-csm-oradea-vs-scm-politehnica-timisoara-div-a-arena-antonio-alexe/
LOCATION:Arena Antonio Alexe\, Calea Cazaban\, Nr. 3\, Oradea\, Bihor\, România
CATEGORIES:Sport
ATTACH;FMTTYPE=image/png:https://oradea.ro/wp-content/uploads/2023/09/CSMOradea.png
END:VEVENT
BEGIN:VEVENT
DTSTART;TZID=Europe/Helsinki:20251008T203000
DTEND;TZID=Europe/Helsinki:20251008T223000
DTSTAMP:20260421T020910
CREATED:20251004T072427Z
LAST-MODIFIED:20251004T072501Z
UID:10000794-1759955400-1759962600@oradea.ro
SUMMARY:BASCHET | Liga Națională Masculin 2025/26\, Etapa 3 | CSM CSU Raiffeisen Oradea vs CSM BBA Petrolul Ploiești | Oradea Arena
DESCRIPTION:CSM CSU Raiffeisen Oradea vs CSM BBA Petrolul Ploiești\n– Liga Națională de baschet masculin – ediția 2025/26\, Etapa 3\n– Oradea Arena\n– Miercuri (08.10.2025)\, ora 20:30
URL:https://oradea.ro/eveniment/baschet-liga-nationala-masculin-2025-26-etapa-3-csm-csu-raiffeisen-oradea-vs-csm-bba-petrolul-ploiesti-oradea-arena/
LOCATION:Oradea Arena
CATEGORIES:Sport
ATTACH;FMTTYPE=image/png:https://oradea.ro/wp-content/uploads/2025/10/08.10.2025-Ploiesti.png
END:VEVENT
BEGIN:VEVENT
DTSTART;TZID=Europe/Helsinki:20250926T190000
DTEND;TZID=Europe/Helsinki:20250926T210000
DTSTAMP:20260421T020910
CREATED:20250919T103222Z
LAST-MODIFIED:20250919T103222Z
UID:10000725-1758913200-1758920400@oradea.ro
SUMMARY:POLO PE APĂ | Superliga Națională Masculin 2025/26\, Etapa 1 | CSM Oradea vs CSU Oradea | Bazinul Olimpic Ioan Alexandrescu
DESCRIPTION:CSM Oradea vs CSU Oradea\n– Superliga Națională de polo pe apă – ediția 2025/26\, Etapa 1\n– Bazinul olimpic Ioan Alexandrescu\, Oradea\n– Vineri (26.09.2025)\, ora 19:00\n– Intrare liberă
URL:https://oradea.ro/eveniment/polo-pe-apa-superliga-nationala-masculin-2025-26-etapa-1-csm-oradea-vs-csu-oradea-bazinul-olimpic-ioan-alexandrescu/
LOCATION:Bazinul Olimpic Ioan Alexandrescu\, Bazinul Olimpic Ioan Alexandrescu\, Al. Strandului\, 5\, Oradea\, Bihor\, România
CATEGORIES:Sport
ATTACH;FMTTYPE=image/jpeg:https://oradea.ro/wp-content/uploads/2024/03/CSM-Oradea.jpg
END:VEVENT
BEGIN:VEVENT
DTSTART;TZID=Europe/Helsinki:20250925T183000
DTEND;TZID=Europe/Helsinki:20250925T203000
DTSTAMP:20260421T020910
CREATED:20250905T105800Z
LAST-MODIFIED:20250905T105800Z
UID:10000723-1758825000-1758832200@oradea.ro
SUMMARY:Handbal | Divizia A masculin - ediția 2025/26\, Etapa 3 | CSM Oradea vs Potaisa Turda Div. A | Arena Antonio Alexe
DESCRIPTION:CSM Oradea vs AHC Potaisa Turda Div. A\n– Divizia A masculin – ediția 2025/26\, Etapa 3\, Seria C\n– Arena Antonio Alexe\, Oradea\n– Joi (25.09.2025)\, ora 18:30\n– Intrare liberă
URL:https://oradea.ro/eveniment/handbal-divizia-a-masculin-editia-2025-26-etapa-3-csm-oradea-vs-potaisa-turda-div-a-arena-antonio-alexe/
LOCATION:Arena Antonio Alexe\, Calea Cazaban\, Nr. 3\, Oradea\, Bihor\, România
CATEGORIES:Sport
ATTACH;FMTTYPE=image/jpeg:https://oradea.ro/wp-content/uploads/2024/03/CSM-Oradea.jpg
END:VEVENT
BEGIN:VEVENT
DTSTART;TZID=Europe/Helsinki:20250913T080000
DTEND;TZID=Europe/Helsinki:20250915T170000
DTSTAMP:20260421T020910
CREATED:20250905T104808Z
LAST-MODIFIED:20250907T114131Z
UID:10000721-1757750400-1757955600@oradea.ro
SUMMARY:Baschet | Memorialul Antonio Alexe - ediția a 12-a | Oradea Arena (13-15.09.2025)
DESCRIPTION:Turneul memorial Antonio Alexe – ediția 12\, se va desfășura la Oradea Arena\, în perioada 13-15 Septembrie 2025. Participă locurile 2 și 3 în ultima ediție a Ligii Naționale de baschet masculin\, precum și o reprezentantă a Serbiei în Liga Adriatică. \nProgram: \n\nSâmbătă (13.09.2025)\, ora 18:30\, CSM CSU Oradea vs KK Borac Cacak\nDuminică (14.09.2025)\, ora 18:00\, KK Borac Cacak vs CS Vâlcea 1924\nLuni (15.09.2025)\, ora 18:00\, CS Vâlcea 1924 vs CSM CSU Oradea\n\nIntrarea este liberă pentru spectatori la toate meciurile.
URL:https://oradea.ro/eveniment/baschet-memorialul-antonio-alexe-editia-a-12-a-oradea-arena-13-15-09-2025/
LOCATION:Oradea Arena
CATEGORIES:Sport
END:VEVENT
BEGIN:VEVENT
DTSTART;TZID=Europe/Helsinki:20250905T180000
DTEND;TZID=Europe/Helsinki:20250905T200000
DTSTAMP:20260421T020910
CREATED:20250905T095843Z
LAST-MODIFIED:20250905T104930Z
UID:10000720-1757095200-1757102400@oradea.ro
SUMMARY:BASCHET | Meci Amical | CSM CSU Oradea vs CSM Tîrgu Mureș | Arena Antonio Alexe
DESCRIPTION:CSM CSU Oradea vs CSM Tîrgu Mureș\n– Presezon 2025\, Meci amical\n– Arena Antonio Alexe\, Oradea\n– Vineri (05.09.2025)\, ora 18:00\n– Intrare liberă
URL:https://oradea.ro/eveniment/baschet-meci-amical-csm-csu-oradea-vs-csm-tirgu-mures-arena-antonio-alexe/
CATEGORIES:Sport
ATTACH;FMTTYPE=image/jpeg:https://oradea.ro/wp-content/uploads/2024/03/CSM-Oradea.jpg
END:VEVENT
BEGIN:VEVENT
DTSTART;TZID=Europe/Helsinki:20250613T200000
DTEND;TZID=Europe/Helsinki:20250613T210000
DTSTAMP:20260421T020910
CREATED:20250611T064110Z
LAST-MODIFIED:20250611T072637Z
UID:10000717-1749844800-1749848400@oradea.ro
SUMMARY:BASCHET | Liga Națională Masculin – Playoff\, Finala\, Meciul 5 | CSM CSU Oradea vs U-BT Cluj-Napoca | Oradea Arena
DESCRIPTION:CSM CSU Oradea vs U-BT Cluj-Napoca\n– Liga Națională de baschet masculin – ediția 2024/25\, Finala\, Meciul 5\n– Vineri (13.06.2025)\, Ora 20:00\n– Oradea Arena\n– În direct pe DigiSport\, PrimaSport și FRB TV (YouTube)
URL:https://oradea.ro/eveniment/baschet-liga-nationala-masculin-playoff-finala-meciul-5-csm-csu-oradea-vs-u-bt-cluj-napoca-oradea-arena/
LOCATION:Oradea Arena
CATEGORIES:Sport
ATTACH;FMTTYPE=image/jpeg:https://oradea.ro/wp-content/uploads/2024/09/CSMCSUOradea-scaled.jpg
END:VEVENT
BEGIN:VEVENT
DTSTART;TZID=Europe/Helsinki:20250604T190000
DTEND;TZID=Europe/Helsinki:20250604T210000
DTSTAMP:20260421T020910
CREATED:20250601T030026Z
LAST-MODIFIED:20250601T030059Z
UID:10000716-1749063600-1749070800@oradea.ro
SUMMARY:BASCHET | Liga Națională Masculin - Playoff\, Finala\, Meciul 2 | CSM CSU Oradea vs U-BT Cluj-Napoca | Oradea Arena
DESCRIPTION:CSM CSU Oradea vs U-BT Cluj-Napoca\n– Liga Națională de baschet masculin – ediția 2024/25\n– Finala\, Meciul 2\n– Oradea Arena\n– Miercuri (04.06)\, ora 19:00\n– Bilete AICI\, abonamentele sunt valabile\n– DigiSport\, PrimaSport\, FRB TV (YouTube)
URL:https://oradea.ro/eveniment/baschet-liga-nationala-masculin-playoff-finala-meciul-2-csm-csu-oradea-vs-u-bt-cluj-napoca-oradea-arena/
LOCATION:Oradea Arena
CATEGORIES:Sport
ATTACH;FMTTYPE=image/jpeg:https://oradea.ro/wp-content/uploads/2024/09/CSMCSUOradea-scaled.jpg
END:VEVENT
BEGIN:VEVENT
DTSTART;TZID=Europe/Helsinki:20250602T190000
DTEND;TZID=Europe/Helsinki:20250602T210000
DTSTAMP:20260421T020910
CREATED:20250601T025824Z
LAST-MODIFIED:20250601T025824Z
UID:10000715-1748890800-1748898000@oradea.ro
SUMMARY:BASCHET | Liga Națională Masculin - Playoff\, Finala\, Meciul 1 | CSM CSU Oradea vs U-BT Cluj-Napoca | Oradea Arena
DESCRIPTION:CSM CSU Oradea vs U-BT Cluj-Napoca\n– Liga Națională de baschet masculin – ediția 2024/25\n– Finala\, Meciul 1\n– Oradea Arena\n– Luni (02.06)\, ora 19:00\n– Bilete AICI\, abonamentele sunt valabile\n– DigiSport\, PrimaSport\, FRB TV (YouTube)
URL:https://oradea.ro/eveniment/baschet-liga-nationala-masculin-playoff-finala-meciul-1-csm-csu-oradea-vs-u-bt-cluj-napoca-oradea-arena/
LOCATION:Oradea Arena
CATEGORIES:Sport
ATTACH;FMTTYPE=image/jpeg:https://oradea.ro/wp-content/uploads/2024/09/CSMCSUOradea-scaled.jpg
END:VEVENT
BEGIN:VEVENT
DTSTART;TZID=Europe/Helsinki:20250528T190000
DTEND;TZID=Europe/Helsinki:20250528T210000
DTSTAMP:20260421T020910
CREATED:20250526T093404Z
LAST-MODIFIED:20250526T093528Z
UID:10000714-1748458800-1748466000@oradea.ro
SUMMARY:BASCHET | Liga Națională Masculin - Playoff\, Semifinale\, Meciul 5 | CSM CSU Oradea vs CSO Voluntari | Oradea Arena
DESCRIPTION:CSM CSU Oradea vs CSO Voluntari\n– Liga Națională de baschet masculin – ediția 2024/25\n– Semifinale\, Meciul 5\n– Scorul general este de 2-2\n– Miercuri (28.05)\, ora 19:00\n– Oradea Arena\n– Bilete AICI\, abonamentele sunt valabile\n– În direct pe DigiSport\, PrimaSport și FRB TV (YouTube)
URL:https://oradea.ro/eveniment/baschet-liga-nationala-masculin-playoff-semifinale-meciul-5-csm-csu-oradea-vs-cso-voluntari-oradea-arena/
LOCATION:Oradea Arena
CATEGORIES:Sport
ATTACH;FMTTYPE=image/jpeg:https://oradea.ro/wp-content/uploads/2024/09/CSMCSUOradea-scaled.jpg
END:VEVENT
BEGIN:VEVENT
DTSTART;TZID=Europe/Helsinki:20250525T120000
DTEND;TZID=Europe/Helsinki:20250525T133000
DTSTAMP:20260421T020910
CREATED:20250522T054214Z
LAST-MODIFIED:20250522T054214Z
UID:10000713-1748174400-1748179800@oradea.ro
SUMMARY:POLO PE APĂ | Superliga Națională – ediția 2024/25\, Finala\, Meciul 4 | CSM Oradea vs Steaua București | Bazinul olimpic Ioan Alexandrescu
DESCRIPTION:CSM Oradea vs Dinamo București\n– Superliga Națională de polo pe apă – ediția 2024/25\n– Finala\, Meciul 4\n– Duminică (25.05.2025)\, ora 12:00\n– Bazinul olimpic Ioan Alexandrescu din Oradea\n– Transmisie TV: TVR Sport\n– Intrare liberă
URL:https://oradea.ro/eveniment/polo-pe-apa-superliga-nationala-editia-2024-25-finala-meciul-4-csm-oradea-vs-steaua-bucuresti-bazinul-olimpic-ioan-alexandrescu/
LOCATION:Bazinul Olimpic Ioan Alexandrescu\, Bazinul Olimpic Ioan Alexandrescu\, Al. Strandului\, 5\, Oradea\, Bihor\, România
CATEGORIES:Sport
ATTACH;FMTTYPE=image/jpeg:https://oradea.ro/wp-content/uploads/2024/09/CSMOPolo.jpg
END:VEVENT
BEGIN:VEVENT
DTSTART;TZID=Europe/Helsinki:20250523T200000
DTEND;TZID=Europe/Helsinki:20250523T213000
DTSTAMP:20260421T020910
CREATED:20250513T085206Z
LAST-MODIFIED:20250513T085206Z
UID:10000710-1748030400-1748035800@oradea.ro
SUMMARY:POLO PE APĂ | Superliga Națională – ediția 2024/25\, Finala\, Meciul 3 | CSM Oradea vs Steaua București | Bazinul olimpic Ioan Alexandrescu
DESCRIPTION:CSM Oradea vs Dinamo București\n– Superliga Națională de polo pe apă – ediția 2024/25\n– Finala\, Meciul 3\n– Vineri (23.05.2025)\, ora 20:00\n– Bazinul olimpic Ioan Alexandrescu din Oradea\n– Transmisie TV: TVR Sport\n– Intrare liberă
URL:https://oradea.ro/eveniment/polo-pe-apa-superliga-nationala-editia-2024-25-finala-meciul-3-csm-oradea-vs-steaua-bucuresti-bazinul-olimpic-ioan-alexandrescu/
CATEGORIES:Sport
ATTACH;FMTTYPE=image/jpeg:https://oradea.ro/wp-content/uploads/2024/09/CSMOPolo.jpg
END:VEVENT
BEGIN:VEVENT
DTSTART;TZID=Europe/Helsinki:20250519T190000
DTEND;TZID=Europe/Helsinki:20250519T210000
DTSTAMP:20260421T020910
CREATED:20250513T085804Z
LAST-MODIFIED:20250513T085804Z
UID:10000712-1747681200-1747688400@oradea.ro
SUMMARY:BASCHET | Liga Națională Masculin 2024/25\, Playoff\, Semifinale\, Meciul 2 | CSM CSU Oradea vs CSO Voluntari | Oradea Arena
DESCRIPTION:CSM CSU Oradea vs CSO Voluntari\n– Liga Națională de baschet masculin – ediția 2024/25\n– Playoff\, Semifinale\, Meciul 2\n– Oradea Arena\n– Luni (19.05.2025)\, ora 19:00\n– Bilete pe Eventbook.ro (cost 20 și 15 lei pentru adulți\, 5 lei pentru elevi) – click AICI\n– Abonamentele sunt valabile\n– Transmisiune în direct: DigiSport și PrimaSport\n– Transmisiune online: FRB TV (YouTube)
URL:https://oradea.ro/eveniment/baschet-liga-nationala-masculin-2024-25-playoff-semifinale-meciul-2-csm-csu-oradea-vs-cso-voluntari-oradea-arena/
LOCATION:Oradea Arena
ATTACH;FMTTYPE=image/jpeg:https://oradea.ro/wp-content/uploads/2024/09/CSMCSUOradea-scaled.jpg
END:VEVENT
BEGIN:VEVENT
DTSTART;TZID=Europe/Helsinki:20250517T190000
DTEND;TZID=Europe/Helsinki:20250517T210000
DTSTAMP:20260421T020910
CREATED:20250513T085605Z
LAST-MODIFIED:20250513T085636Z
UID:10000711-1747508400-1747515600@oradea.ro
SUMMARY:BASCHET | Liga Națională Masculin 2024/25\, Playoff\, Semifinale\, Meciul 1 | CSM CSU Oradea vs CSO Voluntari | Oradea Arena
DESCRIPTION:CSM CSU Oradea vs CSO Voluntari\n– Liga Națională de baschet masculin – ediția 2024/25\n– Playoff\, Semifinale\, Meciul 1\n– Oradea Arena\n– Sâmbătă (17.05.2025)\, ora 19:00\n– Bilete pe Eventbook.ro (cost 20 și 15 lei pentru adulți\, 5 lei pentru elevi) – click AICI\n– Abonamentele sunt valabile\n– Transmisiune în direct: DigiSport și PrimaSport\n– Transmisiune online: FRB TV (YouTube)
URL:https://oradea.ro/eveniment/baschet-liga-nationala-masculin-2024-25-playoff-semifinale-meciul-1-csm-csu-oradea-vs-cso-voluntari/
LOCATION:Oradea Arena
ATTACH;FMTTYPE=image/jpeg:https://oradea.ro/wp-content/uploads/2024/09/CSMCSUOradea-scaled.jpg
END:VEVENT
END:VCALENDAR